BEGIN:VCALENDAR
VERSION:2.0
PRODID:-//Taumarunui RSA - ECPv6.15.20//NONSGML v1.0//EN
CALSCALE:GREGORIAN
METHOD:PUBLISH
X-ORIGINAL-URL:https://www.taumarunuirsa.co.nz
X-WR-CALDESC:Events for Taumarunui RSA
REFRESH-INTERVAL;VALUE=DURATION:PT1H
X-Robots-Tag:noindex
X-PUBLISHED-TTL:PT1H
BEGIN:VTIMEZONE
TZID:Pacific/Auckland
BEGIN:STANDARD
TZOFFSETFROM:+1300
TZOFFSETTO:+1200
TZNAME:NZST
DTSTART:20180331T140000
END:STANDARD
BEGIN:DAYLIGHT
TZOFFSETFROM:+1200
TZOFFSETTO:+1300
TZNAME:NZDT
DTSTART:20180929T140000
END:DAYLIGHT
BEGIN:STANDARD
TZOFFSETFROM:+1300
TZOFFSETTO:+1200
TZNAME:NZST
DTSTART:20190406T140000
END:STANDARD
BEGIN:DAYLIGHT
TZOFFSETFROM:+1200
TZOFFSETTO:+1300
TZNAME:NZDT
DTSTART:20190928T140000
END:DAYLIGHT
BEGIN:STANDARD
TZOFFSETFROM:+1300
TZOFFSETTO:+1200
TZNAME:NZST
DTSTART:20200404T140000
END:STANDARD
BEGIN:DAYLIGHT
TZOFFSETFROM:+1200
TZOFFSETTO:+1300
TZNAME:NZDT
DTSTART:20200926T140000
END:DAYLIGHT
END:VTIMEZONE
BEGIN:VEVENT
DTSTART;TZID=Pacific/Auckland:20190702T180000
DTEND;TZID=Pacific/Auckland:20190702T200000
DTSTAMP:20260420T214510
CREATED:20190705T043158Z
LAST-MODIFIED:20190705T043158Z
UID:3838-1562090400-1562097600@www.taumarunuirsa.co.nz
SUMMARY:Membership Draw & Quiz Night
DESCRIPTION:Quiz Starts at 6pm. Membership Draw approx 7pm
URL:https://www.taumarunuirsa.co.nz/event/membership-draw-quiz-night-107/
LOCATION:Taumarunui & District RSA\, 10 Marae Street\, Taumarunui\, New Zealand
END:VEVENT
BEGIN:VEVENT
DTSTART;TZID=Pacific/Auckland:20190704T133000
DTEND;TZID=Pacific/Auckland:20190704T153000
DTSTAMP:20260420T214510
CREATED:20190708T042244Z
LAST-MODIFIED:20190708T042244Z
UID:3894-1562247000-1562254200@www.taumarunuirsa.co.nz
SUMMARY:Thursday Snooker
DESCRIPTION:
URL:https://www.taumarunuirsa.co.nz/event/thursday-snooker-110/
LOCATION:Taumarunui & District RSA\, 10 Marae Street\, Taumarunui\, New Zealand
END:VEVENT
BEGIN:VEVENT
DTSTART;TZID=Pacific/Auckland:20190705T180000
DTEND;TZID=Pacific/Auckland:20190705T200000
DTSTAMP:20260420T214510
CREATED:20190709T015847Z
LAST-MODIFIED:20190709T015847Z
UID:3948-1562349600-1562356800@www.taumarunuirsa.co.nz
SUMMARY:Membership & 8 Ball
DESCRIPTION:$100-$1000 envelopes $25 Restaurant voucher draw if Membership Draw doesn’t go Friday Night Pool Singles every Friday night from 6.30pm 1st $50 Restaurant Voucher Runner Up $25 Restaurant Voucher
URL:https://www.taumarunuirsa.co.nz/event/membership-8-ball-2/
LOCATION:Taumarunui & District RSA\, 10 Marae Street\, Taumarunui\, New Zealand
END:VEVENT
BEGIN:VEVENT
DTSTART;TZID=Pacific/Auckland:20190709T180000
DTEND;TZID=Pacific/Auckland:20190709T200000
DTSTAMP:20260420T214510
CREATED:20190705T043423Z
LAST-MODIFIED:20190705T043423Z
UID:3840-1562695200-1562702400@www.taumarunuirsa.co.nz
SUMMARY:Membership Draw & Quiz Night
DESCRIPTION:Quiz Starts at 6pm. Membership Draw approx 7pm
URL:https://www.taumarunuirsa.co.nz/event/membership-draw-quiz-night-108/
LOCATION:Taumarunui & District RSA\, 10 Marae Street\, Taumarunui\, New Zealand
END:VEVENT
BEGIN:VEVENT
DTSTART;TZID=Pacific/Auckland:20190711T133000
DTEND;TZID=Pacific/Auckland:20190711T153000
DTSTAMP:20260420T214510
CREATED:20190708T042416Z
LAST-MODIFIED:20190708T042416Z
UID:3896-1562851800-1562859000@www.taumarunuirsa.co.nz
SUMMARY:Thursday Snooker
DESCRIPTION:
URL:https://www.taumarunuirsa.co.nz/event/thursday-snooker-111/
LOCATION:Taumarunui & District RSA\, 10 Marae Street\, Taumarunui\, New Zealand
END:VEVENT
BEGIN:VEVENT
DTSTART;TZID=Pacific/Auckland:20190712T180000
DTEND;TZID=Pacific/Auckland:20190712T200000
DTSTAMP:20260420T214510
CREATED:20190709T015954Z
LAST-MODIFIED:20190709T015954Z
UID:3950-1562954400-1562961600@www.taumarunuirsa.co.nz
SUMMARY:Membership Draw & 8 Ball
DESCRIPTION:$100-$1000 envelopes $25 Restaurant voucher draw if Membership Draw doesn’t go Friday Night Pool Singles every Friday night from 6.30pm 1st $50 Restaurant Voucher Runner Up $25 Restaurant Voucher
URL:https://www.taumarunuirsa.co.nz/event/membership-draw-8-ball-97/
LOCATION:Taumarunui & District RSA\, 10 Marae Street\, Taumarunui\, New Zealand
END:VEVENT
BEGIN:VEVENT
DTSTART;TZID=Pacific/Auckland:20190716T180000
DTEND;TZID=Pacific/Auckland:20190716T200000
DTSTAMP:20260420T214510
CREATED:20190705T043617Z
LAST-MODIFIED:20190705T043617Z
UID:3842-1563300000-1563307200@www.taumarunuirsa.co.nz
SUMMARY:Membership Draw & Quiz Night
DESCRIPTION:Quiz Starts at 6pm. Membership Draw approx 7pm
URL:https://www.taumarunuirsa.co.nz/event/membership-draw-quiz-night-109/
LOCATION:Taumarunui & District RSA\, 10 Marae Street\, Taumarunui\, New Zealand
END:VEVENT
BEGIN:VEVENT
DTSTART;TZID=Pacific/Auckland:20190718T133000
DTEND;TZID=Pacific/Auckland:20190718T153000
DTSTAMP:20260420T214510
CREATED:20190708T042700Z
LAST-MODIFIED:20190708T042700Z
UID:3898-1563456600-1563463800@www.taumarunuirsa.co.nz
SUMMARY:Thursday Snooker
DESCRIPTION:
URL:https://www.taumarunuirsa.co.nz/event/thursday-snooker-112/
LOCATION:Taumarunui & District RSA\, 10 Marae Street\, Taumarunui\, New Zealand
END:VEVENT
BEGIN:VEVENT
DTSTART;TZID=Pacific/Auckland:20190719T180000
DTEND;TZID=Pacific/Auckland:20190719T200000
DTSTAMP:20260420T214510
CREATED:20190709T020425Z
LAST-MODIFIED:20190709T020425Z
UID:3952-1563559200-1563566400@www.taumarunuirsa.co.nz
SUMMARY:Membership Draw & 8 Ball
DESCRIPTION:$100-$1000 envelopes $25 Restaurant voucher draw if Membership Draw doesn’t go Friday Night Pool Singles every Friday night from 6.30pm 1st $50 Restaurant Voucher Runner Up $25 Restaurant Voucher
URL:https://www.taumarunuirsa.co.nz/event/membership-draw-8-ball-98/
LOCATION:Taumarunui & District RSA\, 10 Marae Street\, Taumarunui\, New Zealand
END:VEVENT
BEGIN:VEVENT
DTSTART;TZID=Pacific/Auckland:20190720T193000
DTEND;TZID=Pacific/Auckland:20190720T233000
DTSTAMP:20260420T214510
CREATED:20190705T041304Z
LAST-MODIFIED:20190705T041304Z
UID:3828-1563651000-1563665400@www.taumarunuirsa.co.nz
SUMMARY:Sue Dyson
DESCRIPTION:Restaurant Open from 5.30pm \nCourtesy Van available Phone 8957517
URL:https://www.taumarunuirsa.co.nz/event/sue-dyson-7/
LOCATION:Taumarunui & District RSA\, 10 Marae Street\, Taumarunui\, New Zealand
END:VEVENT
BEGIN:VEVENT
DTSTART;TZID=Pacific/Auckland:20190723T180000
DTEND;TZID=Pacific/Auckland:20190723T200000
DTSTAMP:20260420T214510
CREATED:20190705T043752Z
LAST-MODIFIED:20190705T043752Z
UID:3844-1563904800-1563912000@www.taumarunuirsa.co.nz
SUMMARY:Membership Draw & Quiz Night
DESCRIPTION:Quiz Starts at 6pm. Membership Draw approx 7pm
URL:https://www.taumarunuirsa.co.nz/event/membership-draw-quiz-night-110/
LOCATION:Taumarunui & District RSA\, 10 Marae Street\, Taumarunui\, New Zealand
END:VEVENT
BEGIN:VEVENT
DTSTART;TZID=Pacific/Auckland:20190725T133000
DTEND;TZID=Pacific/Auckland:20190725T153000
DTSTAMP:20260420T214510
CREATED:20190708T043331Z
LAST-MODIFIED:20190708T043331Z
UID:3900-1564061400-1564068600@www.taumarunuirsa.co.nz
SUMMARY:Thursday Snooker
DESCRIPTION:
URL:https://www.taumarunuirsa.co.nz/event/thursday-snooker-113/
LOCATION:Taumarunui & District RSA\, 10 Marae Street\, Taumarunui\, New Zealand
END:VEVENT
BEGIN:VEVENT
DTSTART;TZID=Pacific/Auckland:20190726T180000
DTEND;TZID=Pacific/Auckland:20190726T200000
DTSTAMP:20260420T214510
CREATED:20190709T020655Z
LAST-MODIFIED:20190709T020655Z
UID:3954-1564164000-1564171200@www.taumarunuirsa.co.nz
SUMMARY:Membership Draw & 8 Ball
DESCRIPTION:$100-$1000 envelopes $25 Restaurant voucher draw if Membership Draw doesn’t go Friday Night Pool Singles every Friday night from 6.30pm 1st $50 Restaurant Voucher Runner Up $25 Restaurant Voucher
URL:https://www.taumarunuirsa.co.nz/event/membership-draw-8-ball-99/
LOCATION:Taumarunui & District RSA\, 10 Marae Street\, Taumarunui\, New Zealand
END:VEVENT
BEGIN:VEVENT
DTSTART;TZID=Pacific/Auckland:20190730T180000
DTEND;TZID=Pacific/Auckland:20190730T200000
DTSTAMP:20260420T214510
CREATED:20190705T044023Z
LAST-MODIFIED:20190705T044023Z
UID:3846-1564509600-1564516800@www.taumarunuirsa.co.nz
SUMMARY:Membership Draw & Quiz Night
DESCRIPTION:Quiz Starts at 6pm. Membership Draw approx 7pm
URL:https://www.taumarunuirsa.co.nz/event/membership-draw-quiz-night-111/
LOCATION:Taumarunui & District RSA\, 10 Marae Street\, Taumarunui\, New Zealand
END:VEVENT
END:VCALENDAR