BEGIN:VCALENDAR
VERSION:2.0
PRODID:-//Taumarunui RSA - ECPv6.15.20//NONSGML v1.0//EN
CALSCALE:GREGORIAN
METHOD:PUBLISH
X-WR-CALNAME:Taumarunui RSA
X-ORIGINAL-URL:https://www.taumarunuirsa.co.nz
X-WR-CALDESC:Events for Taumarunui RSA
REFRESH-INTERVAL;VALUE=DURATION:PT1H
X-Robots-Tag:noindex
X-PUBLISHED-TTL:PT1H
BEGIN:VTIMEZONE
TZID:Pacific/Auckland
BEGIN:STANDARD
TZOFFSETFROM:+1300
TZOFFSETTO:+1200
TZNAME:NZST
DTSTART:20180331T140000
END:STANDARD
BEGIN:DAYLIGHT
TZOFFSETFROM:+1200
TZOFFSETTO:+1300
TZNAME:NZDT
DTSTART:20180929T140000
END:DAYLIGHT
BEGIN:STANDARD
TZOFFSETFROM:+1300
TZOFFSETTO:+1200
TZNAME:NZST
DTSTART:20190406T140000
END:STANDARD
BEGIN:DAYLIGHT
TZOFFSETFROM:+1200
TZOFFSETTO:+1300
TZNAME:NZDT
DTSTART:20190928T140000
END:DAYLIGHT
BEGIN:STANDARD
TZOFFSETFROM:+1300
TZOFFSETTO:+1200
TZNAME:NZST
DTSTART:20200404T140000
END:STANDARD
BEGIN:DAYLIGHT
TZOFFSETFROM:+1200
TZOFFSETTO:+1300
TZNAME:NZDT
DTSTART:20200926T140000
END:DAYLIGHT
END:VTIMEZONE
BEGIN:VEVENT
DTSTART;TZID=Pacific/Auckland:20190604T180000
DTEND;TZID=Pacific/Auckland:20190604T200000
DTSTAMP:20260420T230720
CREATED:20190705T041817Z
LAST-MODIFIED:20190705T041817Z
UID:3830-1559671200-1559678400@www.taumarunuirsa.co.nz
SUMMARY:Membership Draw & Quiz Night
DESCRIPTION:Quiz Starts at 6pm. Membership Draw approx 7pm
URL:https://www.taumarunuirsa.co.nz/event/membership-draw-quiz-night-103/
LOCATION:Taumarunui & District RSA\, 10 Marae Street\, Taumarunui\, New Zealand
END:VEVENT
BEGIN:VEVENT
DTSTART;TZID=Pacific/Auckland:20190606T133000
DTEND;TZID=Pacific/Auckland:20190606T153000
DTSTAMP:20260420T230720
CREATED:20190708T040937Z
LAST-MODIFIED:20190708T040937Z
UID:3883-1559827800-1559835000@www.taumarunuirsa.co.nz
SUMMARY:Thursday Snooker
DESCRIPTION:
URL:https://www.taumarunuirsa.co.nz/event/thursday-snooker-106/
LOCATION:Taumarunui & District RSA\, 10 Marae Street\, Taumarunui\, New Zealand
END:VEVENT
BEGIN:VEVENT
DTSTART;TZID=Pacific/Auckland:20190607T180000
DTEND;TZID=Pacific/Auckland:20190607T200000
DTSTAMP:20260420T230720
CREATED:20190709T001818Z
LAST-MODIFIED:20190709T001818Z
UID:3940-1559930400-1559937600@www.taumarunuirsa.co.nz
SUMMARY:Membership Draw & 8 Ball
DESCRIPTION:$100-$1000 envelopes $25 Restaurant voucher draw if Membership Draw doesn’t go Friday Night Pool Singles every Friday night from 6.30pm 1st $50 Restaurant Voucher Runner Up $25 Restaurant Voucher
URL:https://www.taumarunuirsa.co.nz/event/membership-draw-8-ball-93/
LOCATION:Taumarunui & District RSA\, 10 Marae Street\, Taumarunui\, New Zealand
END:VEVENT
BEGIN:VEVENT
DTSTART;TZID=Pacific/Auckland:20190611T180000
DTEND;TZID=Pacific/Auckland:20190611T200000
DTSTAMP:20260420T230720
CREATED:20190705T042049Z
LAST-MODIFIED:20190705T042049Z
UID:3832-1560276000-1560283200@www.taumarunuirsa.co.nz
SUMMARY:Membership Draw & Quiz Night
DESCRIPTION:Quiz Starts at 6pm. Membership Draw approx 7pm
URL:https://www.taumarunuirsa.co.nz/event/membership-draw-quiz-night-104/
LOCATION:Taumarunui & District RSA\, 10 Marae Street\, Taumarunui\, New Zealand
END:VEVENT
BEGIN:VEVENT
DTSTART;TZID=Pacific/Auckland:20190613T133000
DTEND;TZID=Pacific/Auckland:20190613T153000
DTSTAMP:20260420T230720
CREATED:20190708T041027Z
LAST-MODIFIED:20190708T041059Z
UID:3885-1560432600-1560439800@www.taumarunuirsa.co.nz
SUMMARY:Thursday Snooker
DESCRIPTION:
URL:https://www.taumarunuirsa.co.nz/event/thursday-snooker-107/
LOCATION:Taumarunui & District RSA\, 10 Marae Street\, Taumarunui\, New Zealand
END:VEVENT
BEGIN:VEVENT
DTSTART;TZID=Pacific/Auckland:20190614T180000
DTEND;TZID=Pacific/Auckland:20190614T200000
DTSTAMP:20260420T230720
CREATED:20190709T002045Z
LAST-MODIFIED:20190709T002045Z
UID:3942-1560535200-1560542400@www.taumarunuirsa.co.nz
SUMMARY:Membership Draw & 8 Ball
DESCRIPTION:$100-$1000 envelopes $25 Restaurant voucher draw if Membership Draw doesn’t go Friday Night Pool Singles every Friday night from 6.30pm 1st $50 Restaurant Voucher Runner Up $25 Restaurant Voucher
URL:https://www.taumarunuirsa.co.nz/event/membership-draw-8-ball-94/
LOCATION:Taumarunui & District RSA\, 10 Marae Street\, Taumarunui\, New Zealand
END:VEVENT
BEGIN:VEVENT
DTSTART;TZID=Pacific/Auckland:20190615T080000
DTEND;TZID=Pacific/Auckland:20190615T170000
DTSTAMP:20260420T230720
CREATED:20190211T195147Z
LAST-MODIFIED:20190211T195147Z
UID:3759-1560585600-1560618000@www.taumarunuirsa.co.nz
SUMMARY:Ebonivory
DESCRIPTION:Restaurant Open from 5.30pm \nCourtesy Van Available Phone 895 7517 \nNo Cover Charge
URL:https://www.taumarunuirsa.co.nz/event/ebonivory-11/
LOCATION:Taumarunui & District RSA\, 10 Marae Street\, Taumarunui\, New Zealand
END:VEVENT
BEGIN:VEVENT
DTSTART;TZID=Pacific/Auckland:20190618T180000
DTEND;TZID=Pacific/Auckland:20190618T200000
DTSTAMP:20260420T230720
CREATED:20190705T042529Z
LAST-MODIFIED:20190705T042529Z
UID:3834-1560880800-1560888000@www.taumarunuirsa.co.nz
SUMMARY:Membership Draw & Quiz Night
DESCRIPTION:Quiz Starts at 6pm. Membership Draw approx 7pm
URL:https://www.taumarunuirsa.co.nz/event/membership-draw-quiz-night-105/
LOCATION:Taumarunui & District RSA\, 10 Marae Street\, Taumarunui\, New Zealand
END:VEVENT
BEGIN:VEVENT
DTSTART;TZID=Pacific/Auckland:20190620T133000
DTEND;TZID=Pacific/Auckland:20190620T153000
DTSTAMP:20260420T230720
CREATED:20190708T041349Z
LAST-MODIFIED:20190708T041349Z
UID:3888-1561037400-1561044600@www.taumarunuirsa.co.nz
SUMMARY:Thursday Snooker
DESCRIPTION:
URL:https://www.taumarunuirsa.co.nz/event/thursday-snooker-108/
LOCATION:Taumarunui & District RSA\, 10 Marae Street\, Taumarunui\, New Zealand
END:VEVENT
BEGIN:VEVENT
DTSTART;TZID=Pacific/Auckland:20190621T180000
DTEND;TZID=Pacific/Auckland:20190621T200000
DTSTAMP:20260420T230720
CREATED:20190709T002323Z
LAST-MODIFIED:20190709T002323Z
UID:3944-1561140000-1561147200@www.taumarunuirsa.co.nz
SUMMARY:Membership Draw & 8 Ball
DESCRIPTION:$100-$1000 envelopes $25 Restaurant voucher draw if Membership Draw doesn’t go Friday Night Pool Singles every Friday night from 6.30pm 1st $50 Restaurant Voucher Runner Up $25 Restaurant Voucher
URL:https://www.taumarunuirsa.co.nz/event/membership-draw-8-ball-95/
LOCATION:Taumarunui & District RSA\, 10 Marae Street\, Taumarunui\, New Zealand
END:VEVENT
BEGIN:VEVENT
DTSTART;TZID=Pacific/Auckland:20190625T180000
DTEND;TZID=Pacific/Auckland:20190625T200000
DTSTAMP:20260420T230720
CREATED:20190705T043000Z
LAST-MODIFIED:20190705T043000Z
UID:3836-1561485600-1561492800@www.taumarunuirsa.co.nz
SUMMARY:Membership Draw & Quiz Night
DESCRIPTION:Quiz Starts at 6pm. Membership Draw approx 7pm
URL:https://www.taumarunuirsa.co.nz/event/membership-draw-quiz-night-106/
END:VEVENT
BEGIN:VEVENT
DTSTART;TZID=Pacific/Auckland:20190627T133000
DTEND;TZID=Pacific/Auckland:20190627T153000
DTSTAMP:20260420T230720
CREATED:20190708T041459Z
LAST-MODIFIED:20190708T041459Z
UID:3890-1561642200-1561649400@www.taumarunuirsa.co.nz
SUMMARY:Thursday Snooker
DESCRIPTION:
URL:https://www.taumarunuirsa.co.nz/event/thursday-snooker-109/
LOCATION:Taumarunui & District RSA\, 10 Marae Street\, Taumarunui\, New Zealand
END:VEVENT
BEGIN:VEVENT
DTSTART;TZID=Pacific/Auckland:20190628T180000
DTEND;TZID=Pacific/Auckland:20190628T200000
DTSTAMP:20260420T230720
CREATED:20190709T002530Z
LAST-MODIFIED:20190709T002530Z
UID:3946-1561744800-1561752000@www.taumarunuirsa.co.nz
SUMMARY:Membership Draw & 8 Ball
DESCRIPTION:$100-$1000 envelopes $25 Restaurant voucher draw if Membership Draw doesn’t go Friday Night Pool Singles every Friday night from 6.30pm 1st $50 Restaurant Voucher Runner Up $25 Restaurant Voucher
URL:https://www.taumarunuirsa.co.nz/event/membership-draw-8-ball-96/
LOCATION:Taumarunui & District RSA\, 10 Marae Street\, Taumarunui\, New Zealand
END:VEVENT
END:VCALENDAR