BEGIN:VCALENDAR
VERSION:2.0
PRODID:-//Taumarunui RSA - ECPv6.15.20//NONSGML v1.0//EN
CALSCALE:GREGORIAN
METHOD:PUBLISH
X-WR-CALNAME:Taumarunui RSA
X-ORIGINAL-URL:https://www.taumarunuirsa.co.nz
X-WR-CALDESC:Events for Taumarunui RSA
REFRESH-INTERVAL;VALUE=DURATION:PT1H
X-Robots-Tag:noindex
X-PUBLISHED-TTL:PT1H
BEGIN:VTIMEZONE
TZID:Pacific/Auckland
BEGIN:STANDARD
TZOFFSETFROM:+1300
TZOFFSETTO:+1200
TZNAME:NZST
DTSTART:20160402T140000
END:STANDARD
BEGIN:DAYLIGHT
TZOFFSETFROM:+1200
TZOFFSETTO:+1300
TZNAME:NZDT
DTSTART:20160924T140000
END:DAYLIGHT
BEGIN:STANDARD
TZOFFSETFROM:+1300
TZOFFSETTO:+1200
TZNAME:NZST
DTSTART:20170401T140000
END:STANDARD
BEGIN:DAYLIGHT
TZOFFSETFROM:+1200
TZOFFSETTO:+1300
TZNAME:NZDT
DTSTART:20170923T140000
END:DAYLIGHT
BEGIN:STANDARD
TZOFFSETFROM:+1300
TZOFFSETTO:+1200
TZNAME:NZST
DTSTART:20180331T140000
END:STANDARD
BEGIN:DAYLIGHT
TZOFFSETFROM:+1200
TZOFFSETTO:+1300
TZNAME:NZDT
DTSTART:20180929T140000
END:DAYLIGHT
END:VTIMEZONE
BEGIN:VEVENT
DTSTART;TZID=Pacific/Auckland:20170725T180000
DTEND;TZID=Pacific/Auckland:20170725T200000
DTSTAMP:20260422T202104
CREATED:20170502T234630Z
LAST-MODIFIED:20170502T234630Z
UID:3052-1501005600-1501012800@www.taumarunuirsa.co.nz
SUMMARY:Membership Draw & Quiz Night
DESCRIPTION:Quiz Starts at 6pm \nMembership Draw approx. 7pm
URL:https://www.taumarunuirsa.co.nz/event/membership-draw-quiz-night-22/
END:VEVENT
BEGIN:VEVENT
DTSTART;TZID=Pacific/Auckland:20170723T120000
DTEND;TZID=Pacific/Auckland:20170723T140000
DTSTAMP:20260422T202104
CREATED:20170717T231905Z
LAST-MODIFIED:20170717T232219Z
UID:3165-1500811200-1500818400@www.taumarunuirsa.co.nz
SUMMARY:Sunday Roast
DESCRIPTION:
URL:https://www.taumarunuirsa.co.nz/event/sunday-roast/
LOCATION:Taumarunui & District RSA\, 10 Marae Street\, Taumarunui\, New Zealand
END:VEVENT
BEGIN:VEVENT
DTSTART;TZID=Pacific/Auckland:20170722T193000
DTEND;TZID=Pacific/Auckland:20170722T233000
DTSTAMP:20260422T202104
CREATED:20170602T002224Z
LAST-MODIFIED:20170602T002303Z
UID:3078-1500751800-1500766200@www.taumarunuirsa.co.nz
SUMMARY:The Juetts - Maramena Hall & Christine Conrad
DESCRIPTION:Restaurant Open from 5.30pm \nCourtesy Van Available Phone 895 7517 \nMembers\, Members Guests & Affiliated Members Welcome \nNo Cover Charge
URL:https://www.taumarunuirsa.co.nz/event/juetts-maramena-hall-christine-conrad/
LOCATION:Taumarunui & District RSA\, 10 Marae Street\, Taumarunui\, New Zealand
END:VEVENT
BEGIN:VEVENT
DTSTART;TZID=Pacific/Auckland:20170721T180000
DTEND;TZID=Pacific/Auckland:20170721T200000
DTSTAMP:20260422T202104
CREATED:20170502T225555Z
LAST-MODIFIED:20170502T225555Z
UID:3000-1500660000-1500667200@www.taumarunuirsa.co.nz
SUMMARY:Membership Draw & 8 Ball
DESCRIPTION:$100-$1000 envelopes \n$25 Restaurant voucher draw if Membership Draw doesn’t go \nFriday Night Pool \nSingles every Friday night from 6.30pm \n1st $50 Restaurant Voucher \nRunner Up $25 Restaurant Voucher
URL:https://www.taumarunuirsa.co.nz/event/membership-draw-8-ball-16/
END:VEVENT
BEGIN:VEVENT
DTSTART;TZID=Pacific/Auckland:20170720T133000
DTEND;TZID=Pacific/Auckland:20170720T153000
DTSTAMP:20260422T202104
CREATED:20170502T231520Z
LAST-MODIFIED:20170502T231520Z
UID:3026-1500557400-1500564600@www.taumarunuirsa.co.nz
SUMMARY:Thursday Snooker
DESCRIPTION:
URL:https://www.taumarunuirsa.co.nz/event/thursday-snooker-22/
END:VEVENT
BEGIN:VEVENT
DTSTART;TZID=Pacific/Auckland:20170718T180000
DTEND;TZID=Pacific/Auckland:20170718T200000
DTSTAMP:20260422T202104
CREATED:20170502T234305Z
LAST-MODIFIED:20170502T234305Z
UID:3050-1500400800-1500408000@www.taumarunuirsa.co.nz
SUMMARY:Membership Draw & Quiz Night
DESCRIPTION:Quiz Starts at 6pm \nMembership Draw approx. 7pm
URL:https://www.taumarunuirsa.co.nz/event/membership-draw-quiz-night-21/
END:VEVENT
BEGIN:VEVENT
DTSTART;TZID=Pacific/Auckland:20170715T193000
DTEND;TZID=Pacific/Auckland:20170715T233000
DTSTAMP:20260422T202104
CREATED:20170418T210317Z
LAST-MODIFIED:20170418T210317Z
UID:2973-1500147000-1500161400@www.taumarunuirsa.co.nz
SUMMARY:Sue Dyson
DESCRIPTION:Restaurant Open from 5.30pm \nCourtesy Van Available Phone 895 7517 \nMembers\, Members Guests & Affiliated Members Welcome \nNo Cover Charge
URL:https://www.taumarunuirsa.co.nz/event/sue-dyson/
LOCATION:Taumarunui & District RSA\, 10 Marae Street\, Taumarunui\, New Zealand
END:VEVENT
BEGIN:VEVENT
DTSTART;TZID=Pacific/Auckland:20170714T180000
DTEND;TZID=Pacific/Auckland:20170714T200000
DTSTAMP:20260422T202104
CREATED:20170502T225505Z
LAST-MODIFIED:20170502T225505Z
UID:2998-1500055200-1500062400@www.taumarunuirsa.co.nz
SUMMARY:Membership Draw & 8 Ball
DESCRIPTION:$100-$1000 envelopes \n$25 Restaurant voucher draw if Membership Draw doesn’t go \nFriday Night Pool \nSingles every Friday night from 6.30pm \n1st $50 Restaurant Voucher \nRunner Up $25 Restaurant Voucher
URL:https://www.taumarunuirsa.co.nz/event/membership-draw-8-ball-15/
END:VEVENT
BEGIN:VEVENT
DTSTART;TZID=Pacific/Auckland:20170713T133000
DTEND;TZID=Pacific/Auckland:20170713T153000
DTSTAMP:20260422T202104
CREATED:20170502T231357Z
LAST-MODIFIED:20170502T231357Z
UID:3024-1499952600-1499959800@www.taumarunuirsa.co.nz
SUMMARY:Thursday Snooker
DESCRIPTION:
URL:https://www.taumarunuirsa.co.nz/event/thursday-snooker-21/
END:VEVENT
BEGIN:VEVENT
DTSTART;TZID=Pacific/Auckland:20170711T180000
DTEND;TZID=Pacific/Auckland:20170711T200000
DTSTAMP:20260422T202104
CREATED:20170502T234222Z
LAST-MODIFIED:20170502T234222Z
UID:3048-1499796000-1499803200@www.taumarunuirsa.co.nz
SUMMARY:Membership Draw & Quiz Night
DESCRIPTION:Quiz Starts at 6pm \nMembership Draw approx. 7pm
URL:https://www.taumarunuirsa.co.nz/event/membership-draw-quiz-night-20/
END:VEVENT
BEGIN:VEVENT
DTSTART;TZID=Pacific/Auckland:20170707T180000
DTEND;TZID=Pacific/Auckland:20170707T200000
DTSTAMP:20260422T202104
CREATED:20170502T225417Z
LAST-MODIFIED:20170502T225417Z
UID:2996-1499450400-1499457600@www.taumarunuirsa.co.nz
SUMMARY:Membership Draw & 8 Ball
DESCRIPTION:$100-$1000 envelopes \n$25 Restaurant voucher draw if Membership Draw doesn’t go \nFriday Night Pool \nSingles every Friday night from 6.30pm \n1st $50 Restaurant Voucher \nRunner Up $25 Restaurant Voucher
URL:https://www.taumarunuirsa.co.nz/event/membership-draw-8-ball-14/
END:VEVENT
BEGIN:VEVENT
DTSTART;TZID=Pacific/Auckland:20170706T133000
DTEND;TZID=Pacific/Auckland:20170706T153000
DTSTAMP:20260422T202104
CREATED:20170502T231224Z
LAST-MODIFIED:20170502T231224Z
UID:3022-1499347800-1499355000@www.taumarunuirsa.co.nz
SUMMARY:Thursday Snooker
DESCRIPTION:
URL:https://www.taumarunuirsa.co.nz/event/thursday-snooker-20/
END:VEVENT
BEGIN:VEVENT
DTSTART;TZID=Pacific/Auckland:20170704T180000
DTEND;TZID=Pacific/Auckland:20170704T200000
DTSTAMP:20260422T202104
CREATED:20170502T234124Z
LAST-MODIFIED:20170502T234124Z
UID:3046-1499191200-1499198400@www.taumarunuirsa.co.nz
SUMMARY:Membership Draw & Quiz Night
DESCRIPTION:Quiz Starts at 6pm \nMembership Draw approx. 7pm
URL:https://www.taumarunuirsa.co.nz/event/membership-draw-quiz-night-19/
END:VEVENT
BEGIN:VEVENT
DTSTART;TZID=Pacific/Auckland:20170630T180000
DTEND;TZID=Pacific/Auckland:20170630T200000
DTSTAMP:20260422T202104
CREATED:20170502T225254Z
LAST-MODIFIED:20170502T225254Z
UID:2993-1498845600-1498852800@www.taumarunuirsa.co.nz
SUMMARY:Membership Draw & 8 Ball
DESCRIPTION:$100-$1000 envelopes \n$25 Restaurant voucher draw if Membership Draw doesn’t go \nFriday Night Pool \nSingles every Friday night from 6.30pm \n1st $50 Restaurant Voucher \nRunner Up $25 Restaurant Voucher
URL:https://www.taumarunuirsa.co.nz/event/membership-draw-8-ball-13/
END:VEVENT
BEGIN:VEVENT
DTSTART;TZID=Pacific/Auckland:20170629T133000
DTEND;TZID=Pacific/Auckland:20170629T153000
DTSTAMP:20260422T202104
CREATED:20170502T231018Z
LAST-MODIFIED:20170502T231018Z
UID:3020-1498743000-1498750200@www.taumarunuirsa.co.nz
SUMMARY:Thursday Snooker
DESCRIPTION:
URL:https://www.taumarunuirsa.co.nz/event/thursday-snooker-19/
END:VEVENT
BEGIN:VEVENT
DTSTART;TZID=Pacific/Auckland:20170627T180000
DTEND;TZID=Pacific/Auckland:20170627T200000
DTSTAMP:20260422T202104
CREATED:20170502T234034Z
LAST-MODIFIED:20170502T234034Z
UID:3044-1498586400-1498593600@www.taumarunuirsa.co.nz
SUMMARY:Membership Draw & Quiz Night
DESCRIPTION:Quiz Starts at 6pm \nMembership Draw approx. 7pm
URL:https://www.taumarunuirsa.co.nz/event/membership-draw-quiz-night-18/
END:VEVENT
BEGIN:VEVENT
DTSTART;TZID=Pacific/Auckland:20170623T180000
DTEND;TZID=Pacific/Auckland:20170623T200000
DTSTAMP:20260422T202104
CREATED:20170502T225213Z
LAST-MODIFIED:20170502T225213Z
UID:2991-1498240800-1498248000@www.taumarunuirsa.co.nz
SUMMARY:Membership Draw & 8 Ball
DESCRIPTION:$100-$1000 envelopes \n$25 Restaurant voucher draw if Membership Draw doesn’t go \nFriday Night Pool \nSingles every Friday night from 6.30pm \n1st $50 Restaurant Voucher \nRunner Up $25 Restaurant Voucher
URL:https://www.taumarunuirsa.co.nz/event/membership-draw-8-ball-12/
END:VEVENT
BEGIN:VEVENT
DTSTART;TZID=Pacific/Auckland:20170622T133000
DTEND;TZID=Pacific/Auckland:20170622T153000
DTSTAMP:20260422T202104
CREATED:20170502T230941Z
LAST-MODIFIED:20170502T230941Z
UID:3018-1498138200-1498145400@www.taumarunuirsa.co.nz
SUMMARY:Thursday Snooker
DESCRIPTION:
URL:https://www.taumarunuirsa.co.nz/event/thursday-snooker-18/
END:VEVENT
BEGIN:VEVENT
DTSTART;TZID=Pacific/Auckland:20170620T180000
DTEND;TZID=Pacific/Auckland:20170620T200000
DTSTAMP:20260422T202104
CREATED:20170502T233948Z
LAST-MODIFIED:20170502T233948Z
UID:3042-1497981600-1497988800@www.taumarunuirsa.co.nz
SUMMARY:Membership Draw & Quiz Night
DESCRIPTION:Quiz Starts at 6pm \nMembership Draw approx. 7pm
URL:https://www.taumarunuirsa.co.nz/event/membership-draw-quiz-night-17/
END:VEVENT
BEGIN:VEVENT
DTSTART;TZID=Pacific/Auckland:20170616T193000
DTEND;TZID=Pacific/Auckland:20170616T230000
DTSTAMP:20260422T202104
CREATED:20170317T011449Z
LAST-MODIFIED:20170317T011449Z
UID:2970-1497641400-1497654000@www.taumarunuirsa.co.nz
SUMMARY:Emerald Duo
DESCRIPTION:A la Carte Menu available in the Restaurant from 5.30pm \nCourtesy Van Available Phone 07 895 7517 \nMembers\, Member’s Guests & Affiliated Members Welcome.
URL:https://www.taumarunuirsa.co.nz/event/emerald-duo/
END:VEVENT
BEGIN:VEVENT
DTSTART;TZID=Pacific/Auckland:20170616T180000
DTEND;TZID=Pacific/Auckland:20170616T200000
DTSTAMP:20260422T202104
CREATED:20170502T225129Z
LAST-MODIFIED:20170502T225129Z
UID:2989-1497636000-1497643200@www.taumarunuirsa.co.nz
SUMMARY:Membership Draw & 8 Ball
DESCRIPTION:$100-$1000 envelopes \n$25 Restaurant voucher draw if Membership Draw doesn’t go \nFriday Night Pool \nSingles every Friday night from 6.30pm \n1st $50 Restaurant Voucher \nRunner Up $25 Restaurant Voucher
URL:https://www.taumarunuirsa.co.nz/event/membership-draw-8-ball-11/
END:VEVENT
BEGIN:VEVENT
DTSTART;TZID=Pacific/Auckland:20170615T133000
DTEND;TZID=Pacific/Auckland:20170615T153000
DTSTAMP:20260422T202104
CREATED:20170502T230854Z
LAST-MODIFIED:20170502T230854Z
UID:3016-1497533400-1497540600@www.taumarunuirsa.co.nz
SUMMARY:Thursday Snooker
DESCRIPTION:
URL:https://www.taumarunuirsa.co.nz/event/thursday-snooker-17/
END:VEVENT
BEGIN:VEVENT
DTSTART;TZID=Pacific/Auckland:20170613T180000
DTEND;TZID=Pacific/Auckland:20170613T200000
DTSTAMP:20260422T202104
CREATED:20170502T233625Z
LAST-MODIFIED:20170502T233625Z
UID:3040-1497376800-1497384000@www.taumarunuirsa.co.nz
SUMMARY:Membership Draw & Quiz Night
DESCRIPTION:Quiz Starts at 6pm \nMembership Draw approx. 7pm
URL:https://www.taumarunuirsa.co.nz/event/membership-draw-quiz-night-16/
END:VEVENT
BEGIN:VEVENT
DTSTART;TZID=Pacific/Auckland:20170609T180000
DTEND;TZID=Pacific/Auckland:20170609T200000
DTSTAMP:20260422T202104
CREATED:20170502T224919Z
LAST-MODIFIED:20170502T224919Z
UID:2987-1497031200-1497038400@www.taumarunuirsa.co.nz
SUMMARY:Membership Draw & 8 Ball
DESCRIPTION:$100-$1000 envelopes \n$25 Restaurant voucher draw if Membership Draw doesn’t go \nFriday Night Pool \nSingles every Friday night from 6.30pm \n1st $50 Restaurant Voucher \nRunner Up $25 Restaurant Voucher
URL:https://www.taumarunuirsa.co.nz/event/membership-draw-8-ball-10/
END:VEVENT
BEGIN:VEVENT
DTSTART;TZID=Pacific/Auckland:20170608T133000
DTEND;TZID=Pacific/Auckland:20170608T153000
DTSTAMP:20260422T202104
CREATED:20170502T230819Z
LAST-MODIFIED:20170502T230819Z
UID:3014-1496928600-1496935800@www.taumarunuirsa.co.nz
SUMMARY:Thursday Snooker
DESCRIPTION:
URL:https://www.taumarunuirsa.co.nz/event/thursday-snooker-16/
END:VEVENT
BEGIN:VEVENT
DTSTART;TZID=Pacific/Auckland:20170606T180000
DTEND;TZID=Pacific/Auckland:20170606T200000
DTSTAMP:20260422T202104
CREATED:20170502T233549Z
LAST-MODIFIED:20170502T233549Z
UID:3038-1496772000-1496779200@www.taumarunuirsa.co.nz
SUMMARY:Membership Draw & Quiz Night
DESCRIPTION:Quiz Starts at 6pm \nMembership Draw approx. 7pm
URL:https://www.taumarunuirsa.co.nz/event/membership-draw-quiz-night-15/
END:VEVENT
BEGIN:VEVENT
DTSTART;TZID=Pacific/Auckland:20170602T180000
DTEND;TZID=Pacific/Auckland:20170602T200000
DTSTAMP:20260422T202104
CREATED:20170502T224738Z
LAST-MODIFIED:20170502T224738Z
UID:2985-1496426400-1496433600@www.taumarunuirsa.co.nz
SUMMARY:Membership Draw & 8 Ball
DESCRIPTION:$100-$1000 envelopes \n$25 Restaurant voucher draw if Membership Draw doesn’t go \nFriday Night Pool \nSingles every Friday night from 6.30pm \n1st $50 Restaurant Voucher \nRunner Up $25 Restaurant Voucher
URL:https://www.taumarunuirsa.co.nz/event/membership-draw-8-ball-9/
END:VEVENT
BEGIN:VEVENT
DTSTART;TZID=Pacific/Auckland:20170601T133000
DTEND;TZID=Pacific/Auckland:20170601T153000
DTSTAMP:20260422T202104
CREATED:20170502T230727Z
LAST-MODIFIED:20170502T230727Z
UID:3012-1496323800-1496331000@www.taumarunuirsa.co.nz
SUMMARY:Thursday Snooker
DESCRIPTION:
URL:https://www.taumarunuirsa.co.nz/event/thursday-snooker-15/
END:VEVENT
BEGIN:VEVENT
DTSTART;TZID=Pacific/Auckland:20170530T180000
DTEND;TZID=Pacific/Auckland:20170530T190000
DTSTAMP:20260422T202104
CREATED:20170317T002915Z
LAST-MODIFIED:20170317T002915Z
UID:2939-1496167200-1496170800@www.taumarunuirsa.co.nz
SUMMARY:Tuesday Draw & Quiz Night
DESCRIPTION:
URL:https://www.taumarunuirsa.co.nz/event/tuesday-draw-quiz-night-13/
END:VEVENT
BEGIN:VEVENT
DTSTART;TZID=Pacific/Auckland:20170526T180000
DTEND;TZID=Pacific/Auckland:20170526T200000
DTSTAMP:20260422T202104
CREATED:20170317T001914Z
LAST-MODIFIED:20170502T224123Z
UID:2917-1495821600-1495828800@www.taumarunuirsa.co.nz
SUMMARY:Friday Membership Draw & 8 Ball
DESCRIPTION:$100-$1000 envelopes \n$25 Restaurant voucher draw if Membership Draw doesn’t go \nFriday Night Pool \nSingles every Friday night from 6.30pm \n1st $50 Restaurant Voucher \nRunner Up $25 Restaurant Voucher
URL:https://www.taumarunuirsa.co.nz/event/friday-membership-draw-13/
END:VEVENT
END:VCALENDAR