BEGIN:VCALENDAR
VERSION:2.0
PRODID:-//Taumarunui RSA - ECPv6.15.20//NONSGML v1.0//EN
CALSCALE:GREGORIAN
METHOD:PUBLISH
X-WR-CALNAME:Taumarunui RSA
X-ORIGINAL-URL:https://www.taumarunuirsa.co.nz
X-WR-CALDESC:Events for Taumarunui RSA
REFRESH-INTERVAL;VALUE=DURATION:PT1H
X-Robots-Tag:noindex
X-PUBLISHED-TTL:PT1H
BEGIN:VTIMEZONE
TZID:Pacific/Auckland
BEGIN:STANDARD
TZOFFSETFROM:+1300
TZOFFSETTO:+1200
TZNAME:NZST
DTSTART:20150404T140000
END:STANDARD
BEGIN:DAYLIGHT
TZOFFSETFROM:+1200
TZOFFSETTO:+1300
TZNAME:NZDT
DTSTART:20150926T140000
END:DAYLIGHT
BEGIN:STANDARD
TZOFFSETFROM:+1300
TZOFFSETTO:+1200
TZNAME:NZST
DTSTART:20160402T140000
END:STANDARD
BEGIN:DAYLIGHT
TZOFFSETFROM:+1200
TZOFFSETTO:+1300
TZNAME:NZDT
DTSTART:20160924T140000
END:DAYLIGHT
BEGIN:STANDARD
TZOFFSETFROM:+1300
TZOFFSETTO:+1200
TZNAME:NZST
DTSTART:20170401T140000
END:STANDARD
BEGIN:DAYLIGHT
TZOFFSETFROM:+1200
TZOFFSETTO:+1300
TZNAME:NZDT
DTSTART:20170923T140000
END:DAYLIGHT
BEGIN:STANDARD
TZOFFSETFROM:+1300
TZOFFSETTO:+1200
TZNAME:NZST
DTSTART:20180331T140000
END:STANDARD
BEGIN:DAYLIGHT
TZOFFSETFROM:+1200
TZOFFSETTO:+1300
TZNAME:NZDT
DTSTART:20180929T140000
END:DAYLIGHT
END:VTIMEZONE
BEGIN:VEVENT
DTSTART;TZID=Pacific/Auckland:20170411T180000
DTEND;TZID=Pacific/Auckland:20170411T190000
DTSTAMP:20260426T045311
CREATED:20170317T002317Z
LAST-MODIFIED:20170317T002317Z
UID:2925-1491933600-1491937200@www.taumarunuirsa.co.nz
SUMMARY:Tuesday Draw & Quiz Night
DESCRIPTION:
URL:https://www.taumarunuirsa.co.nz/event/tuesday-draw-quiz-night-7/
END:VEVENT
BEGIN:VEVENT
DTSTART;TZID=Pacific/Auckland:20170409T163000
DTEND;TZID=Pacific/Auckland:20170409T190000
DTSTAMP:20260426T045311
CREATED:20170317T011233Z
LAST-MODIFIED:20170317T011233Z
UID:2968-1491755400-1491764400@www.taumarunuirsa.co.nz
SUMMARY:Ebonivory
DESCRIPTION:Book in for Dinner\, Special Buffet $20 including Dessert. \nRestaurant Open from 5.30pm \nCourtesy Van Available Phone 07 895 7517 \nMembers\, Member’s Guests & Affiliated Members Welcome
URL:https://www.taumarunuirsa.co.nz/event/ebonivory-7/
END:VEVENT
BEGIN:VEVENT
DTSTART;TZID=Pacific/Auckland:20170407T180000
DTEND;TZID=Pacific/Auckland:20170407T190000
DTSTAMP:20260426T045311
CREATED:20170317T001447Z
LAST-MODIFIED:20170317T001447Z
UID:2903-1491588000-1491591600@www.taumarunuirsa.co.nz
SUMMARY:Friday Membership Draw
DESCRIPTION:
URL:https://www.taumarunuirsa.co.nz/event/friday-membership-draw-6/
END:VEVENT
BEGIN:VEVENT
DTSTART;TZID=Pacific/Auckland:20170406T133000
DTEND;TZID=Pacific/Auckland:20170406T153000
DTSTAMP:20260426T045311
CREATED:20170317T003554Z
LAST-MODIFIED:20170317T003554Z
UID:2946-1491485400-1491492600@www.taumarunuirsa.co.nz
SUMMARY:Thursday Snooker
DESCRIPTION:
URL:https://www.taumarunuirsa.co.nz/event/thursday-snooker-7/
END:VEVENT
BEGIN:VEVENT
DTSTART;TZID=Pacific/Auckland:20170404T180000
DTEND;TZID=Pacific/Auckland:20170404T190000
DTSTAMP:20260426T045311
CREATED:20170317T002248Z
LAST-MODIFIED:20170317T002248Z
UID:2923-1491328800-1491332400@www.taumarunuirsa.co.nz
SUMMARY:Tuesday Draw & Quiz Night
DESCRIPTION:
URL:https://www.taumarunuirsa.co.nz/event/tuesday-draw-quiz-night-6/
END:VEVENT
BEGIN:VEVENT
DTSTART;TZID=Pacific/Auckland:20170331T180000
DTEND;TZID=Pacific/Auckland:20170331T190000
DTSTAMP:20260426T045311
CREATED:20170317T001307Z
LAST-MODIFIED:20170317T001307Z
UID:2900-1490983200-1490986800@www.taumarunuirsa.co.nz
SUMMARY:Friday Membership Draw
DESCRIPTION:
URL:https://www.taumarunuirsa.co.nz/event/friday-membership-draw-5/
END:VEVENT
BEGIN:VEVENT
DTSTART;TZID=Pacific/Auckland:20170330T133000
DTEND;TZID=Pacific/Auckland:20170330T153000
DTSTAMP:20260426T045311
CREATED:20170317T003517Z
LAST-MODIFIED:20170317T003517Z
UID:2944-1490880600-1490887800@www.taumarunuirsa.co.nz
SUMMARY:Thursday Snooker
DESCRIPTION:
URL:https://www.taumarunuirsa.co.nz/event/thursday-snooker-6/
END:VEVENT
BEGIN:VEVENT
DTSTART;TZID=Pacific/Auckland:20170328T180000
DTEND;TZID=Pacific/Auckland:20170328T190000
DTSTAMP:20260426T045311
CREATED:20170317T002214Z
LAST-MODIFIED:20170317T002214Z
UID:2921-1490724000-1490727600@www.taumarunuirsa.co.nz
SUMMARY:Tuesday Draw & Quiz Night
DESCRIPTION:
URL:https://www.taumarunuirsa.co.nz/event/tuesday-draw-quiz-night-5/
END:VEVENT
BEGIN:VEVENT
DTSTART;TZID=Pacific/Auckland:20170324T180000
DTEND;TZID=Pacific/Auckland:20170324T190000
DTSTAMP:20260426T045311
CREATED:20170317T001217Z
LAST-MODIFIED:20170317T001217Z
UID:2898-1490378400-1490382000@www.taumarunuirsa.co.nz
SUMMARY:Friday Membership Draw
DESCRIPTION:
URL:https://www.taumarunuirsa.co.nz/event/friday-membership-draw-4/
END:VEVENT
BEGIN:VEVENT
DTSTART;TZID=Pacific/Auckland:20170323T133000
DTEND;TZID=Pacific/Auckland:20170323T153000
DTSTAMP:20260426T045311
CREATED:20170317T003431Z
LAST-MODIFIED:20170317T003431Z
UID:2942-1490275800-1490283000@www.taumarunuirsa.co.nz
SUMMARY:Thursday Snooker
DESCRIPTION:
URL:https://www.taumarunuirsa.co.nz/event/thursday-snooker-5/
END:VEVENT
BEGIN:VEVENT
DTSTART;TZID=Pacific/Auckland:20170321T180000
DTEND;TZID=Pacific/Auckland:20170321T190000
DTSTAMP:20260426T045311
CREATED:20170317T002137Z
LAST-MODIFIED:20170317T002137Z
UID:2919-1490119200-1490122800@www.taumarunuirsa.co.nz
SUMMARY:Tuesday Draw & Quiz Night
DESCRIPTION:
URL:https://www.taumarunuirsa.co.nz/event/tuesday-draw-quiz-night-4/
END:VEVENT
BEGIN:VEVENT
DTSTART;TZID=Pacific/Auckland:20170317T180000
DTEND;TZID=Pacific/Auckland:20170317T233000
DTSTAMP:20260426T045311
CREATED:20170222T215711Z
LAST-MODIFIED:20170222T215711Z
UID:2882-1489773600-1489793400@www.taumarunuirsa.co.nz
SUMMARY:Friday Membership Draw & Entertainment
DESCRIPTION:Come and join us on Saint Paddies day for the Friday Membership Draw followed by some Irish entertainment.
URL:https://www.taumarunuirsa.co.nz/event/friday-membership-draw-entertainment/
LOCATION:Taumarunui & District RSA\, 10 Marae Street\, Taumarunui\, New Zealand
END:VEVENT
BEGIN:VEVENT
DTSTART;TZID=Pacific/Auckland:20170316T133000
DTEND;TZID=Pacific/Auckland:20170316T153000
DTSTAMP:20260426T045311
CREATED:20170222T220142Z
LAST-MODIFIED:20170222T220142Z
UID:2890-1489671000-1489678200@www.taumarunuirsa.co.nz
SUMMARY:Thursday Snooker
DESCRIPTION:
URL:https://www.taumarunuirsa.co.nz/event/thursday-snooker-4/
LOCATION:Taumarunui & District RSA\, 10 Marae Street\, Taumarunui\, New Zealand
END:VEVENT
BEGIN:VEVENT
DTSTART;TZID=Pacific/Auckland:20170314T180000
DTEND;TZID=Pacific/Auckland:20170314T190000
DTSTAMP:20260426T045311
CREATED:20170222T215149Z
LAST-MODIFIED:20170222T215149Z
UID:2876-1489514400-1489518000@www.taumarunuirsa.co.nz
SUMMARY:Tuesday Draw & Quiz Night
DESCRIPTION:
URL:https://www.taumarunuirsa.co.nz/event/tuesday-draw-quiz-night-3/
LOCATION:Taumarunui & District RSA\, 10 Marae Street\, Taumarunui\, New Zealand
END:VEVENT
BEGIN:VEVENT
DTSTART;TZID=Pacific/Auckland:20170310T180000
DTEND;TZID=Pacific/Auckland:20170310T190000
DTSTAMP:20260426T045311
CREATED:20170222T215448Z
LAST-MODIFIED:20170222T215448Z
UID:2880-1489168800-1489172400@www.taumarunuirsa.co.nz
SUMMARY:Friday Membership Draw
DESCRIPTION:
URL:https://www.taumarunuirsa.co.nz/event/friday-membership-draw-3/
LOCATION:Taumarunui & District RSA\, 10 Marae Street\, Taumarunui\, New Zealand
END:VEVENT
BEGIN:VEVENT
DTSTART;TZID=Pacific/Auckland:20170309T133000
DTEND;TZID=Pacific/Auckland:20170309T153000
DTSTAMP:20260426T045311
CREATED:20170222T220056Z
LAST-MODIFIED:20170222T220056Z
UID:2888-1489066200-1489073400@www.taumarunuirsa.co.nz
SUMMARY:Thursday Snooker
DESCRIPTION:
URL:https://www.taumarunuirsa.co.nz/event/thursday-snooker-3/
LOCATION:Taumarunui & District RSA\, 10 Marae Street\, Taumarunui\, New Zealand
END:VEVENT
BEGIN:VEVENT
DTSTART;TZID=Pacific/Auckland:20170307T180000
DTEND;TZID=Pacific/Auckland:20170307T190000
DTSTAMP:20260426T045311
CREATED:20170222T215100Z
LAST-MODIFIED:20170222T215231Z
UID:2874-1488909600-1488913200@www.taumarunuirsa.co.nz
SUMMARY:Tuesday Draw & Quiz Night
DESCRIPTION:
URL:https://www.taumarunuirsa.co.nz/event/tuesday-draw-quiz-night-2/
LOCATION:Taumarunui & District RSA\, 10 Marae Street\, Taumarunui\, New Zealand
END:VEVENT
BEGIN:VEVENT
DTSTART;TZID=Pacific/Auckland:20170304T193000
DTEND;TZID=Pacific/Auckland:20170304T233000
DTSTAMP:20260426T045311
CREATED:20170222T220426Z
LAST-MODIFIED:20170222T220426Z
UID:2892-1488655800-1488670200@www.taumarunuirsa.co.nz
SUMMARY:Entertainment
DESCRIPTION:Come in and listen to the Emerald Brothers play a massive selection of songs. Members\, Associate members\, and Guests welcome.
URL:https://www.taumarunuirsa.co.nz/event/entertainment/
LOCATION:Taumarunui & District RSA\, 10 Marae Street\, Taumarunui\, New Zealand
END:VEVENT
BEGIN:VEVENT
DTSTART;TZID=Pacific/Auckland:20170304T083000
DTEND;TZID=Pacific/Auckland:20170304T170000
DTSTAMP:20260426T045311
CREATED:20170222T221019Z
LAST-MODIFIED:20170222T221019Z
UID:2894-1488616200-1488646800@www.taumarunuirsa.co.nz
SUMMARY:Tuwharetoa Pool Comp
DESCRIPTION:
URL:https://www.taumarunuirsa.co.nz/event/tuwharetoa-pool-comp/
LOCATION:Taumarunui & District RSA\, 10 Marae Street\, Taumarunui\, New Zealand
END:VEVENT
BEGIN:VEVENT
DTSTART;TZID=Pacific/Auckland:20170303T180000
DTEND;TZID=Pacific/Auckland:20170303T190000
DTSTAMP:20260426T045311
CREATED:20170222T215340Z
LAST-MODIFIED:20170222T215340Z
UID:2878-1488564000-1488567600@www.taumarunuirsa.co.nz
SUMMARY:Friday Membership Draw
DESCRIPTION:
URL:https://www.taumarunuirsa.co.nz/event/friday-membership-draw-2/
LOCATION:Taumarunui & District RSA\, 10 Marae Street\, Taumarunui\, New Zealand
END:VEVENT
BEGIN:VEVENT
DTSTART;TZID=Pacific/Auckland:20170302T133000
DTEND;TZID=Pacific/Auckland:20170302T153000
DTSTAMP:20260426T045311
CREATED:20170222T220011Z
LAST-MODIFIED:20170222T220011Z
UID:2886-1488461400-1488468600@www.taumarunuirsa.co.nz
SUMMARY:Thursday Snooker
DESCRIPTION:
URL:https://www.taumarunuirsa.co.nz/event/thursday-snooker-2/
LOCATION:Taumarunui & District RSA\, 10 Marae Street\, Taumarunui\, New Zealand
END:VEVENT
BEGIN:VEVENT
DTSTART;TZID=Pacific/Auckland:20170228T180000
DTEND;TZID=Pacific/Auckland:20170228T190000
DTSTAMP:20260426T045311
CREATED:20170222T214328Z
LAST-MODIFIED:20170222T214424Z
UID:2870-1488304800-1488308400@www.taumarunuirsa.co.nz
SUMMARY:Tuesday Draw & Quiz Night
DESCRIPTION:
URL:https://www.taumarunuirsa.co.nz/event/tuesday-draw-quiz-night/
LOCATION:Taumarunui & District RSA\, 10 Marae Street\, Taumarunui\, New Zealand
END:VEVENT
BEGIN:VEVENT
DTSTART;TZID=Pacific/Auckland:20170224T180000
DTEND;TZID=Pacific/Auckland:20170224T190000
DTSTAMP:20260426T045311
CREATED:20170222T214518Z
LAST-MODIFIED:20170222T214518Z
UID:2872-1487959200-1487962800@www.taumarunuirsa.co.nz
SUMMARY:Friday Membership Draw
DESCRIPTION:
URL:https://www.taumarunuirsa.co.nz/event/friday-membership-draw/
LOCATION:Taumarunui & District RSA\, 10 Marae Street\, Taumarunui\, New Zealand
END:VEVENT
BEGIN:VEVENT
DTSTART;TZID=Pacific/Auckland:20170223T133000
DTEND;TZID=Pacific/Auckland:20170223T153000
DTSTAMP:20260426T045311
CREATED:20170222T215932Z
LAST-MODIFIED:20170222T215932Z
UID:2884-1487856600-1487863800@www.taumarunuirsa.co.nz
SUMMARY:Thursday Snooker
DESCRIPTION:
URL:https://www.taumarunuirsa.co.nz/event/thursday-snooker/
LOCATION:Taumarunui & District RSA\, 10 Marae Street\, Taumarunui\, New Zealand
END:VEVENT
BEGIN:VEVENT
DTSTART;TZID=Pacific/Auckland:20161227T180000
DTEND;TZID=Pacific/Auckland:20161227T200000
DTSTAMP:20260426T045311
CREATED:20161011T214237Z
LAST-MODIFIED:20161011T214237Z
UID:2829-1482861600-1482868800@www.taumarunuirsa.co.nz
SUMMARY:Membership Draw & Quiz Night
DESCRIPTION:Quiz Starts at 6pm \nMembership Draw approx. 7pm
URL:https://www.taumarunuirsa.co.nz/event/membership-draw-quiz-night-14/
LOCATION:Taumarunui & District RSA\, 10 Marae Street\, Taumarunui\, New Zealand
END:VEVENT
BEGIN:VEVENT
DTSTART;TZID=Pacific/Auckland:20161223T193000
DTEND;TZID=Pacific/Auckland:20161223T233000
DTSTAMP:20260426T045311
CREATED:20161124T001553Z
LAST-MODIFIED:20161201T233928Z
UID:2862-1482521400-1482535800@www.taumarunuirsa.co.nz
SUMMARY:Stagetalk Duo
DESCRIPTION:No Cover Charge \nRestaurant Open from 5.30pm \nCourtesy Van Available phone 07 895 7517 \nMembers\, Members Guests & Affiliated Members Welcome
URL:https://www.taumarunuirsa.co.nz/event/peter-wallace-solo/
LOCATION:Taumarunui & District RSA\, 10 Marae Street\, Taumarunui\, New Zealand
END:VEVENT
BEGIN:VEVENT
DTSTART;TZID=Pacific/Auckland:20161223T180000
DTEND;TZID=Pacific/Auckland:20161223T200000
DTSTAMP:20260426T045311
CREATED:20161011T213612Z
LAST-MODIFIED:20161011T213807Z
UID:2818-1482516000-1482523200@www.taumarunuirsa.co.nz
SUMMARY:$1000 Membership Draw - Must Go
DESCRIPTION:Must be a financial member (with your card) and in the Club at the time to win. \nRestaurant Open from 5.30pm \nCourtesy Van Operating Phone 895 7517
URL:https://www.taumarunuirsa.co.nz/event/membership-draw-must-go-3/
LOCATION:Taumarunui & District RSA\, 10 Marae Street\, Taumarunui\, New Zealand
END:VEVENT
BEGIN:VEVENT
DTSTART;TZID=Pacific/Auckland:20161220T180000
DTEND;TZID=Pacific/Auckland:20161220T200000
DTSTAMP:20260426T045311
CREATED:20161011T214129Z
LAST-MODIFIED:20161011T214129Z
UID:2827-1482256800-1482264000@www.taumarunuirsa.co.nz
SUMMARY:Membership Draw & Quiz Night
DESCRIPTION:Quiz Starts at 6pm \nMembership Draw approx. 7pm
URL:https://www.taumarunuirsa.co.nz/event/membership-draw-quiz-night-13/
LOCATION:Taumarunui & District RSA\, 10 Marae Street\, Taumarunui\, New Zealand
END:VEVENT
BEGIN:VEVENT
DTSTART;TZID=Pacific/Auckland:20161217T193000
DTEND;TZID=Pacific/Auckland:20161217T233000
DTSTAMP:20260426T045311
CREATED:20161014T011219Z
LAST-MODIFIED:20161014T011219Z
UID:2853-1482003000-1482017400@www.taumarunuirsa.co.nz
SUMMARY:Emerald Brothers
DESCRIPTION:Restaurant Open from 5.30pm \nCourtesy Van Operating Phone 07 895 7517
URL:https://www.taumarunuirsa.co.nz/event/emerald-brothers-14/
LOCATION:Taumarunui & District RSA\, 10 Marae Street\, Taumarunui\, New Zealand
END:VEVENT
BEGIN:VEVENT
DTSTART;TZID=Pacific/Auckland:20161216T180000
DTEND;TZID=Pacific/Auckland:20161216T200000
DTSTAMP:20260426T045311
CREATED:20161011T213500Z
LAST-MODIFIED:20161011T213738Z
UID:2816-1481911200-1481918400@www.taumarunuirsa.co.nz
SUMMARY:$1000 Membership Draw - Must Go
DESCRIPTION:Must be a financial member (with your card) and in the Club at the time to win. \nRestaurant Open from 5.30pm \nCourtesy Van Operating Phone 895 7517
URL:https://www.taumarunuirsa.co.nz/event/membership-draw-must-go-2/
LOCATION:Taumarunui & District RSA\, 10 Marae Street\, Taumarunui\, New Zealand
END:VEVENT
END:VCALENDAR