BEGIN:VCALENDAR
VERSION:2.0
PRODID:-//Taumarunui RSA - ECPv6.15.20//NONSGML v1.0//EN
CALSCALE:GREGORIAN
METHOD:PUBLISH
X-WR-CALNAME:Taumarunui RSA
X-ORIGINAL-URL:https://www.taumarunuirsa.co.nz
X-WR-CALDESC:Events for Taumarunui RSA
REFRESH-INTERVAL;VALUE=DURATION:PT1H
X-Robots-Tag:noindex
X-PUBLISHED-TTL:PT1H
BEGIN:VTIMEZONE
TZID:Pacific/Auckland
BEGIN:STANDARD
TZOFFSETFROM:+1300
TZOFFSETTO:+1200
TZNAME:NZST
DTSTART:20160402T140000
END:STANDARD
BEGIN:DAYLIGHT
TZOFFSETFROM:+1200
TZOFFSETTO:+1300
TZNAME:NZDT
DTSTART:20160924T140000
END:DAYLIGHT
BEGIN:STANDARD
TZOFFSETFROM:+1300
TZOFFSETTO:+1200
TZNAME:NZST
DTSTART:20170401T140000
END:STANDARD
BEGIN:DAYLIGHT
TZOFFSETFROM:+1200
TZOFFSETTO:+1300
TZNAME:NZDT
DTSTART:20170923T140000
END:DAYLIGHT
BEGIN:STANDARD
TZOFFSETFROM:+1300
TZOFFSETTO:+1200
TZNAME:NZST
DTSTART:20180331T140000
END:STANDARD
BEGIN:DAYLIGHT
TZOFFSETFROM:+1200
TZOFFSETTO:+1300
TZNAME:NZDT
DTSTART:20180929T140000
END:DAYLIGHT
END:VTIMEZONE
BEGIN:VEVENT
DTSTART;TZID=Pacific/Auckland:20170825T180000
DTEND;TZID=Pacific/Auckland:20170825T200000
DTSTAMP:20260422T234227
CREATED:20170502T230154Z
LAST-MODIFIED:20170502T230154Z
UID:3010-1503684000-1503691200@www.taumarunuirsa.co.nz
SUMMARY:Membership Draw & 8 Ball
DESCRIPTION:$100-$1000 envelopes \n$25 Restaurant voucher draw if Membership Draw doesn’t go \nFriday Night Pool \nSingles every Friday night from 6.30pm \n1st $50 Restaurant Voucher \nRunner Up $25 Restaurant Voucher
URL:https://www.taumarunuirsa.co.nz/event/membership-draw-8-ball-21/
END:VEVENT
BEGIN:VEVENT
DTSTART;TZID=Pacific/Auckland:20170824T133000
DTEND;TZID=Pacific/Auckland:20170824T153000
DTSTAMP:20260422T234227
CREATED:20170502T232807Z
LAST-MODIFIED:20170502T232807Z
UID:3036-1503581400-1503588600@www.taumarunuirsa.co.nz
SUMMARY:Thursday Snooker
DESCRIPTION:
URL:https://www.taumarunuirsa.co.nz/event/thursday-snooker-27/
END:VEVENT
BEGIN:VEVENT
DTSTART;TZID=Pacific/Auckland:20170822T180000
DTEND;TZID=Pacific/Auckland:20170822T200000
DTSTAMP:20260422T234227
CREATED:20170502T235407Z
LAST-MODIFIED:20170502T235407Z
UID:3060-1503424800-1503432000@www.taumarunuirsa.co.nz
SUMMARY:Membership Draw & Quiz Night
DESCRIPTION:Quiz Starts at 6pm \nMembership Draw approx. 7pm
URL:https://www.taumarunuirsa.co.nz/event/membership-draw-quiz-night-26/
END:VEVENT
BEGIN:VEVENT
DTSTART;TZID=Pacific/Auckland:20170820T120000
DTEND;TZID=Pacific/Auckland:20170820T140000
DTSTAMP:20260422T234227
CREATED:20170717T232548Z
LAST-MODIFIED:20170717T232603Z
UID:3173-1503230400-1503237600@www.taumarunuirsa.co.nz
SUMMARY:Sunday Roast
DESCRIPTION:
URL:https://www.taumarunuirsa.co.nz/event/sunday-roast-5/
LOCATION:Taumarunui & District RSA\, 10 Marae Street\, Taumarunui\, New Zealand
END:VEVENT
BEGIN:VEVENT
DTSTART;TZID=Pacific/Auckland:20170818T193000
DTEND;TZID=Pacific/Auckland:20170818T233000
DTSTAMP:20260422T234227
CREATED:20170808T233527Z
LAST-MODIFIED:20170808T233527Z
UID:3205-1503084600-1503099000@www.taumarunuirsa.co.nz
SUMMARY:Eddie Cousins
DESCRIPTION:Restaurant Open from 5.30pm\nCourtesy Van Available Phone 895 7517
URL:https://www.taumarunuirsa.co.nz/event/eddie-cousins/
LOCATION:Taumarunui & District RSA\, 10 Marae Street\, Taumarunui\, New Zealand
END:VEVENT
BEGIN:VEVENT
DTSTART;TZID=Pacific/Auckland:20170818T180000
DTEND;TZID=Pacific/Auckland:20170818T200000
DTSTAMP:20260422T234227
CREATED:20170502T225927Z
LAST-MODIFIED:20170502T225927Z
UID:3008-1503079200-1503086400@www.taumarunuirsa.co.nz
SUMMARY:Membership Draw & 8 Ball
DESCRIPTION:$100-$1000 envelopes \n$25 Restaurant voucher draw if Membership Draw doesn’t go \nFriday Night Pool \nSingles every Friday night from 6.30pm \n1st $50 Restaurant Voucher \nRunner Up $25 Restaurant Voucher
URL:https://www.taumarunuirsa.co.nz/event/membership-draw-8-ball-20/
END:VEVENT
BEGIN:VEVENT
DTSTART;TZID=Pacific/Auckland:20170817T133000
DTEND;TZID=Pacific/Auckland:20170817T153000
DTSTAMP:20260422T234227
CREATED:20170502T232635Z
LAST-MODIFIED:20170502T232635Z
UID:3034-1502976600-1502983800@www.taumarunuirsa.co.nz
SUMMARY:Thursday Snooker
DESCRIPTION:
URL:https://www.taumarunuirsa.co.nz/event/thursday-snooker-26/
END:VEVENT
BEGIN:VEVENT
DTSTART;TZID=Pacific/Auckland:20170815T180000
DTEND;TZID=Pacific/Auckland:20170815T200000
DTSTAMP:20260422T234227
CREATED:20170502T235247Z
LAST-MODIFIED:20170502T235247Z
UID:3058-1502820000-1502827200@www.taumarunuirsa.co.nz
SUMMARY:Membership Draw & Quiz Night
DESCRIPTION:Quiz Starts at 6pm \nMembership Draw approx. 7pm
URL:https://www.taumarunuirsa.co.nz/event/membership-draw-quiz-night-25/
END:VEVENT
BEGIN:VEVENT
DTSTART;TZID=Pacific/Auckland:20170813T120000
DTEND;TZID=Pacific/Auckland:20170813T140000
DTSTAMP:20260422T234227
CREATED:20170717T232511Z
LAST-MODIFIED:20170717T232511Z
UID:3171-1502625600-1502632800@www.taumarunuirsa.co.nz
SUMMARY:Sunday Roast
DESCRIPTION:
URL:https://www.taumarunuirsa.co.nz/event/sunday-roast-4/
LOCATION:Taumarunui & District RSA\, 10 Marae Street\, Taumarunui\, New Zealand
END:VEVENT
BEGIN:VEVENT
DTSTART;TZID=Pacific/Auckland:20170811T180000
DTEND;TZID=Pacific/Auckland:20170811T200000
DTSTAMP:20260422T234227
CREATED:20170502T225824Z
LAST-MODIFIED:20170502T225824Z
UID:3006-1502474400-1502481600@www.taumarunuirsa.co.nz
SUMMARY:Membership Draw & 8 Ball
DESCRIPTION:$100-$1000 envelopes \n$25 Restaurant voucher draw if Membership Draw doesn’t go \nFriday Night Pool \nSingles every Friday night from 6.30pm \n1st $50 Restaurant Voucher \nRunner Up $25 Restaurant Voucher
URL:https://www.taumarunuirsa.co.nz/event/membership-draw-8-ball-19/
END:VEVENT
BEGIN:VEVENT
DTSTART;TZID=Pacific/Auckland:20170810T133000
DTEND;TZID=Pacific/Auckland:20170810T153000
DTSTAMP:20260422T234227
CREATED:20170502T235610Z
LAST-MODIFIED:20170502T235610Z
UID:3064-1502371800-1502379000@www.taumarunuirsa.co.nz
SUMMARY:Thursday Snooker
DESCRIPTION:
URL:https://www.taumarunuirsa.co.nz/event/thursday-snooker-28/
END:VEVENT
BEGIN:VEVENT
DTSTART;TZID=Pacific/Auckland:20170808T180000
DTEND;TZID=Pacific/Auckland:20170808T200000
DTSTAMP:20260422T234227
CREATED:20170502T235204Z
LAST-MODIFIED:20170502T235204Z
UID:3056-1502215200-1502222400@www.taumarunuirsa.co.nz
SUMMARY:Membership Draw & Quiz Night
DESCRIPTION:Quiz Starts at 6pm \nMembership Draw approx. 7pm
URL:https://www.taumarunuirsa.co.nz/event/membership-draw-quiz-night-24/
END:VEVENT
BEGIN:VEVENT
DTSTART;TZID=Pacific/Auckland:20170806T120000
DTEND;TZID=Pacific/Auckland:20170806T140000
DTSTAMP:20260422T234227
CREATED:20170717T232429Z
LAST-MODIFIED:20170717T232429Z
UID:3169-1502020800-1502028000@www.taumarunuirsa.co.nz
SUMMARY:Sunday Roast
DESCRIPTION:
URL:https://www.taumarunuirsa.co.nz/event/sunday-roast-3/
LOCATION:Taumarunui & District RSA\, 10 Marae Street\, Taumarunui\, New Zealand
END:VEVENT
BEGIN:VEVENT
DTSTART;TZID=Pacific/Auckland:20170804T180000
DTEND;TZID=Pacific/Auckland:20170804T200000
DTSTAMP:20260422T234227
CREATED:20170502T225737Z
LAST-MODIFIED:20170502T225737Z
UID:3004-1501869600-1501876800@www.taumarunuirsa.co.nz
SUMMARY:Membership Draw & 8 Ball
DESCRIPTION:$100-$1000 envelopes \n$25 Restaurant voucher draw if Membership Draw doesn’t go \nFriday Night Pool \nSingles every Friday night from 6.30pm \n1st $50 Restaurant Voucher \nRunner Up $25 Restaurant Voucher
URL:https://www.taumarunuirsa.co.nz/event/membership-draw-8-ball-18/
END:VEVENT
BEGIN:VEVENT
DTSTART;TZID=Pacific/Auckland:20170803T133000
DTEND;TZID=Pacific/Auckland:20170803T153000
DTSTAMP:20260422T234227
CREATED:20170502T232041Z
LAST-MODIFIED:20170502T232041Z
UID:3030-1501767000-1501774200@www.taumarunuirsa.co.nz
SUMMARY:Thursday Snooker
DESCRIPTION:
URL:https://www.taumarunuirsa.co.nz/event/thursday-snooker-24/
END:VEVENT
BEGIN:VEVENT
DTSTART;TZID=Pacific/Auckland:20170801T180000
DTEND;TZID=Pacific/Auckland:20170801T200000
DTSTAMP:20260422T234227
CREATED:20170502T234949Z
LAST-MODIFIED:20170502T234949Z
UID:3054-1501610400-1501617600@www.taumarunuirsa.co.nz
SUMMARY:Membership Draw & Quiz Night
DESCRIPTION:Quiz Starts at 6pm \nMembership Draw approx. 7pm
URL:https://www.taumarunuirsa.co.nz/event/membership-draw-quiz-night-23/
END:VEVENT
BEGIN:VEVENT
DTSTART;TZID=Pacific/Auckland:20170730T120000
DTEND;TZID=Pacific/Auckland:20170730T140000
DTSTAMP:20260422T234227
CREATED:20170717T231957Z
LAST-MODIFIED:20170717T232344Z
UID:3167-1501416000-1501423200@www.taumarunuirsa.co.nz
SUMMARY:Sunday Roast
DESCRIPTION:
URL:https://www.taumarunuirsa.co.nz/event/sunday-roast-2/
LOCATION:Taumarunui & District RSA\, 10 Marae Street\, Taumarunui\, New Zealand
END:VEVENT
BEGIN:VEVENT
DTSTART;TZID=Pacific/Auckland:20170728T180000
DTEND;TZID=Pacific/Auckland:20170728T200000
DTSTAMP:20260422T234227
CREATED:20170502T225643Z
LAST-MODIFIED:20170502T225643Z
UID:3002-1501264800-1501272000@www.taumarunuirsa.co.nz
SUMMARY:Membership Draw & 8 Ball
DESCRIPTION:$100-$1000 envelopes \n$25 Restaurant voucher draw if Membership Draw doesn’t go \nFriday Night Pool \nSingles every Friday night from 6.30pm \n1st $50 Restaurant Voucher \nRunner Up $25 Restaurant Voucher
URL:https://www.taumarunuirsa.co.nz/event/membership-draw-8-ball-17/
END:VEVENT
BEGIN:VEVENT
DTSTART;TZID=Pacific/Auckland:20170727T133000
DTEND;TZID=Pacific/Auckland:20170727T153000
DTSTAMP:20260422T234227
CREATED:20170502T231948Z
LAST-MODIFIED:20170502T231948Z
UID:3028-1501162200-1501169400@www.taumarunuirsa.co.nz
SUMMARY:Thursday Snooker
DESCRIPTION:
URL:https://www.taumarunuirsa.co.nz/event/thursday-snooker-23/
END:VEVENT
BEGIN:VEVENT
DTSTART;TZID=Pacific/Auckland:20170725T180000
DTEND;TZID=Pacific/Auckland:20170725T200000
DTSTAMP:20260422T234227
CREATED:20170502T234630Z
LAST-MODIFIED:20170502T234630Z
UID:3052-1501005600-1501012800@www.taumarunuirsa.co.nz
SUMMARY:Membership Draw & Quiz Night
DESCRIPTION:Quiz Starts at 6pm \nMembership Draw approx. 7pm
URL:https://www.taumarunuirsa.co.nz/event/membership-draw-quiz-night-22/
END:VEVENT
BEGIN:VEVENT
DTSTART;TZID=Pacific/Auckland:20170723T120000
DTEND;TZID=Pacific/Auckland:20170723T140000
DTSTAMP:20260422T234227
CREATED:20170717T231905Z
LAST-MODIFIED:20170717T232219Z
UID:3165-1500811200-1500818400@www.taumarunuirsa.co.nz
SUMMARY:Sunday Roast
DESCRIPTION:
URL:https://www.taumarunuirsa.co.nz/event/sunday-roast/
LOCATION:Taumarunui & District RSA\, 10 Marae Street\, Taumarunui\, New Zealand
END:VEVENT
BEGIN:VEVENT
DTSTART;TZID=Pacific/Auckland:20170722T193000
DTEND;TZID=Pacific/Auckland:20170722T233000
DTSTAMP:20260422T234227
CREATED:20170602T002224Z
LAST-MODIFIED:20170602T002303Z
UID:3078-1500751800-1500766200@www.taumarunuirsa.co.nz
SUMMARY:The Juetts - Maramena Hall & Christine Conrad
DESCRIPTION:Restaurant Open from 5.30pm \nCourtesy Van Available Phone 895 7517 \nMembers\, Members Guests & Affiliated Members Welcome \nNo Cover Charge
URL:https://www.taumarunuirsa.co.nz/event/juetts-maramena-hall-christine-conrad/
LOCATION:Taumarunui & District RSA\, 10 Marae Street\, Taumarunui\, New Zealand
END:VEVENT
BEGIN:VEVENT
DTSTART;TZID=Pacific/Auckland:20170721T180000
DTEND;TZID=Pacific/Auckland:20170721T200000
DTSTAMP:20260422T234227
CREATED:20170502T225555Z
LAST-MODIFIED:20170502T225555Z
UID:3000-1500660000-1500667200@www.taumarunuirsa.co.nz
SUMMARY:Membership Draw & 8 Ball
DESCRIPTION:$100-$1000 envelopes \n$25 Restaurant voucher draw if Membership Draw doesn’t go \nFriday Night Pool \nSingles every Friday night from 6.30pm \n1st $50 Restaurant Voucher \nRunner Up $25 Restaurant Voucher
URL:https://www.taumarunuirsa.co.nz/event/membership-draw-8-ball-16/
END:VEVENT
BEGIN:VEVENT
DTSTART;TZID=Pacific/Auckland:20170720T133000
DTEND;TZID=Pacific/Auckland:20170720T153000
DTSTAMP:20260422T234227
CREATED:20170502T231520Z
LAST-MODIFIED:20170502T231520Z
UID:3026-1500557400-1500564600@www.taumarunuirsa.co.nz
SUMMARY:Thursday Snooker
DESCRIPTION:
URL:https://www.taumarunuirsa.co.nz/event/thursday-snooker-22/
END:VEVENT
BEGIN:VEVENT
DTSTART;TZID=Pacific/Auckland:20170718T180000
DTEND;TZID=Pacific/Auckland:20170718T200000
DTSTAMP:20260422T234227
CREATED:20170502T234305Z
LAST-MODIFIED:20170502T234305Z
UID:3050-1500400800-1500408000@www.taumarunuirsa.co.nz
SUMMARY:Membership Draw & Quiz Night
DESCRIPTION:Quiz Starts at 6pm \nMembership Draw approx. 7pm
URL:https://www.taumarunuirsa.co.nz/event/membership-draw-quiz-night-21/
END:VEVENT
BEGIN:VEVENT
DTSTART;TZID=Pacific/Auckland:20170715T193000
DTEND;TZID=Pacific/Auckland:20170715T233000
DTSTAMP:20260422T234227
CREATED:20170418T210317Z
LAST-MODIFIED:20170418T210317Z
UID:2973-1500147000-1500161400@www.taumarunuirsa.co.nz
SUMMARY:Sue Dyson
DESCRIPTION:Restaurant Open from 5.30pm \nCourtesy Van Available Phone 895 7517 \nMembers\, Members Guests & Affiliated Members Welcome \nNo Cover Charge
URL:https://www.taumarunuirsa.co.nz/event/sue-dyson/
LOCATION:Taumarunui & District RSA\, 10 Marae Street\, Taumarunui\, New Zealand
END:VEVENT
BEGIN:VEVENT
DTSTART;TZID=Pacific/Auckland:20170714T180000
DTEND;TZID=Pacific/Auckland:20170714T200000
DTSTAMP:20260422T234227
CREATED:20170502T225505Z
LAST-MODIFIED:20170502T225505Z
UID:2998-1500055200-1500062400@www.taumarunuirsa.co.nz
SUMMARY:Membership Draw & 8 Ball
DESCRIPTION:$100-$1000 envelopes \n$25 Restaurant voucher draw if Membership Draw doesn’t go \nFriday Night Pool \nSingles every Friday night from 6.30pm \n1st $50 Restaurant Voucher \nRunner Up $25 Restaurant Voucher
URL:https://www.taumarunuirsa.co.nz/event/membership-draw-8-ball-15/
END:VEVENT
BEGIN:VEVENT
DTSTART;TZID=Pacific/Auckland:20170713T133000
DTEND;TZID=Pacific/Auckland:20170713T153000
DTSTAMP:20260422T234227
CREATED:20170502T231357Z
LAST-MODIFIED:20170502T231357Z
UID:3024-1499952600-1499959800@www.taumarunuirsa.co.nz
SUMMARY:Thursday Snooker
DESCRIPTION:
URL:https://www.taumarunuirsa.co.nz/event/thursday-snooker-21/
END:VEVENT
BEGIN:VEVENT
DTSTART;TZID=Pacific/Auckland:20170711T180000
DTEND;TZID=Pacific/Auckland:20170711T200000
DTSTAMP:20260422T234227
CREATED:20170502T234222Z
LAST-MODIFIED:20170502T234222Z
UID:3048-1499796000-1499803200@www.taumarunuirsa.co.nz
SUMMARY:Membership Draw & Quiz Night
DESCRIPTION:Quiz Starts at 6pm \nMembership Draw approx. 7pm
URL:https://www.taumarunuirsa.co.nz/event/membership-draw-quiz-night-20/
END:VEVENT
BEGIN:VEVENT
DTSTART;TZID=Pacific/Auckland:20170707T180000
DTEND;TZID=Pacific/Auckland:20170707T200000
DTSTAMP:20260422T234227
CREATED:20170502T225417Z
LAST-MODIFIED:20170502T225417Z
UID:2996-1499450400-1499457600@www.taumarunuirsa.co.nz
SUMMARY:Membership Draw & 8 Ball
DESCRIPTION:$100-$1000 envelopes \n$25 Restaurant voucher draw if Membership Draw doesn’t go \nFriday Night Pool \nSingles every Friday night from 6.30pm \n1st $50 Restaurant Voucher \nRunner Up $25 Restaurant Voucher
URL:https://www.taumarunuirsa.co.nz/event/membership-draw-8-ball-14/
END:VEVENT
END:VCALENDAR