BEGIN:VCALENDAR
VERSION:2.0
PRODID:-//Taumarunui RSA - ECPv6.15.20//NONSGML v1.0//EN
CALSCALE:GREGORIAN
METHOD:PUBLISH
X-WR-CALNAME:Taumarunui RSA
X-ORIGINAL-URL:https://www.taumarunuirsa.co.nz
X-WR-CALDESC:Events for Taumarunui RSA
REFRESH-INTERVAL;VALUE=DURATION:PT1H
X-Robots-Tag:noindex
X-PUBLISHED-TTL:PT1H
BEGIN:VTIMEZONE
TZID:Pacific/Auckland
BEGIN:STANDARD
TZOFFSETFROM:+1300
TZOFFSETTO:+1200
TZNAME:NZST
DTSTART:20160402T140000
END:STANDARD
BEGIN:DAYLIGHT
TZOFFSETFROM:+1200
TZOFFSETTO:+1300
TZNAME:NZDT
DTSTART:20160924T140000
END:DAYLIGHT
BEGIN:STANDARD
TZOFFSETFROM:+1300
TZOFFSETTO:+1200
TZNAME:NZST
DTSTART:20170401T140000
END:STANDARD
BEGIN:DAYLIGHT
TZOFFSETFROM:+1200
TZOFFSETTO:+1300
TZNAME:NZDT
DTSTART:20170923T140000
END:DAYLIGHT
BEGIN:STANDARD
TZOFFSETFROM:+1300
TZOFFSETTO:+1200
TZNAME:NZST
DTSTART:20180331T140000
END:STANDARD
BEGIN:DAYLIGHT
TZOFFSETFROM:+1200
TZOFFSETTO:+1300
TZNAME:NZDT
DTSTART:20180929T140000
END:DAYLIGHT
END:VTIMEZONE
BEGIN:VEVENT
DTSTART;TZID=Pacific/Auckland:20170609T180000
DTEND;TZID=Pacific/Auckland:20170609T200000
DTSTAMP:20260425T235746
CREATED:20170502T224919Z
LAST-MODIFIED:20170502T224919Z
UID:2987-1497031200-1497038400@www.taumarunuirsa.co.nz
SUMMARY:Membership Draw & 8 Ball
DESCRIPTION:$100-$1000 envelopes \n$25 Restaurant voucher draw if Membership Draw doesn’t go \nFriday Night Pool \nSingles every Friday night from 6.30pm \n1st $50 Restaurant Voucher \nRunner Up $25 Restaurant Voucher
URL:https://www.taumarunuirsa.co.nz/event/membership-draw-8-ball-10/
END:VEVENT
BEGIN:VEVENT
DTSTART;TZID=Pacific/Auckland:20170608T133000
DTEND;TZID=Pacific/Auckland:20170608T153000
DTSTAMP:20260425T235746
CREATED:20170502T230819Z
LAST-MODIFIED:20170502T230819Z
UID:3014-1496928600-1496935800@www.taumarunuirsa.co.nz
SUMMARY:Thursday Snooker
DESCRIPTION:
URL:https://www.taumarunuirsa.co.nz/event/thursday-snooker-16/
END:VEVENT
BEGIN:VEVENT
DTSTART;TZID=Pacific/Auckland:20170606T180000
DTEND;TZID=Pacific/Auckland:20170606T200000
DTSTAMP:20260425T235746
CREATED:20170502T233549Z
LAST-MODIFIED:20170502T233549Z
UID:3038-1496772000-1496779200@www.taumarunuirsa.co.nz
SUMMARY:Membership Draw & Quiz Night
DESCRIPTION:Quiz Starts at 6pm \nMembership Draw approx. 7pm
URL:https://www.taumarunuirsa.co.nz/event/membership-draw-quiz-night-15/
END:VEVENT
BEGIN:VEVENT
DTSTART;TZID=Pacific/Auckland:20170602T180000
DTEND;TZID=Pacific/Auckland:20170602T200000
DTSTAMP:20260425T235746
CREATED:20170502T224738Z
LAST-MODIFIED:20170502T224738Z
UID:2985-1496426400-1496433600@www.taumarunuirsa.co.nz
SUMMARY:Membership Draw & 8 Ball
DESCRIPTION:$100-$1000 envelopes \n$25 Restaurant voucher draw if Membership Draw doesn’t go \nFriday Night Pool \nSingles every Friday night from 6.30pm \n1st $50 Restaurant Voucher \nRunner Up $25 Restaurant Voucher
URL:https://www.taumarunuirsa.co.nz/event/membership-draw-8-ball-9/
END:VEVENT
BEGIN:VEVENT
DTSTART;TZID=Pacific/Auckland:20170601T133000
DTEND;TZID=Pacific/Auckland:20170601T153000
DTSTAMP:20260425T235746
CREATED:20170502T230727Z
LAST-MODIFIED:20170502T230727Z
UID:3012-1496323800-1496331000@www.taumarunuirsa.co.nz
SUMMARY:Thursday Snooker
DESCRIPTION:
URL:https://www.taumarunuirsa.co.nz/event/thursday-snooker-15/
END:VEVENT
BEGIN:VEVENT
DTSTART;TZID=Pacific/Auckland:20170530T180000
DTEND;TZID=Pacific/Auckland:20170530T190000
DTSTAMP:20260425T235746
CREATED:20170317T002915Z
LAST-MODIFIED:20170317T002915Z
UID:2939-1496167200-1496170800@www.taumarunuirsa.co.nz
SUMMARY:Tuesday Draw & Quiz Night
DESCRIPTION:
URL:https://www.taumarunuirsa.co.nz/event/tuesday-draw-quiz-night-13/
END:VEVENT
BEGIN:VEVENT
DTSTART;TZID=Pacific/Auckland:20170526T180000
DTEND;TZID=Pacific/Auckland:20170526T200000
DTSTAMP:20260425T235746
CREATED:20170317T001914Z
LAST-MODIFIED:20170502T224123Z
UID:2917-1495821600-1495828800@www.taumarunuirsa.co.nz
SUMMARY:Friday Membership Draw & 8 Ball
DESCRIPTION:$100-$1000 envelopes \n$25 Restaurant voucher draw if Membership Draw doesn’t go \nFriday Night Pool \nSingles every Friday night from 6.30pm \n1st $50 Restaurant Voucher \nRunner Up $25 Restaurant Voucher
URL:https://www.taumarunuirsa.co.nz/event/friday-membership-draw-13/
END:VEVENT
BEGIN:VEVENT
DTSTART;TZID=Pacific/Auckland:20170525T133000
DTEND;TZID=Pacific/Auckland:20170525T153000
DTSTAMP:20260425T235746
CREATED:20170317T004059Z
LAST-MODIFIED:20170317T004059Z
UID:2960-1495719000-1495726200@www.taumarunuirsa.co.nz
SUMMARY:Thursday Snooker
DESCRIPTION:
URL:https://www.taumarunuirsa.co.nz/event/thursday-snooker-14/
END:VEVENT
BEGIN:VEVENT
DTSTART;TZID=Pacific/Auckland:20170523T180000
DTEND;TZID=Pacific/Auckland:20170523T190000
DTSTAMP:20260425T235746
CREATED:20170317T002836Z
LAST-MODIFIED:20170317T002836Z
UID:2937-1495562400-1495566000@www.taumarunuirsa.co.nz
SUMMARY:Tuesday Draw & Quiz Night
DESCRIPTION:
URL:https://www.taumarunuirsa.co.nz/event/tuesday-draw-quiz-night-12/
END:VEVENT
BEGIN:VEVENT
DTSTART;TZID=Pacific/Auckland:20170520T193000
DTEND;TZID=Pacific/Auckland:20170520T230000
DTSTAMP:20260425T235746
CREATED:20170317T010946Z
LAST-MODIFIED:20170507T223923Z
UID:2966-1495308600-1495321200@www.taumarunuirsa.co.nz
SUMMARY:The Eddie Low Show featuring Kevin Greaves
DESCRIPTION:Meal from 5.30pm \nStarter:Seafood Chowder \nEntrée:Broccoli Bites \nMain:Roast Pork with Gravy & Apple Sauce\, Ham on the Bone with Mustard\, Gourmet Potatoes\, Roast Kumara\, Cauliflower & Broccoli in Cheese Sauce\, Carrots\, Minted Peas\, Assortment of Salads from our Salad Bar \nDessert:Pavlova\, Fruit Salad\, Ice Cream & Cream \nBuffet plus Show $30 or Show Only $10 \nCourtesy Van Available Phone 07 895 7517 \nMembers\, Members Guests & Affiliated Members Welcome \n 
URL:https://www.taumarunuirsa.co.nz/event/eddie-low-show-featuring-kevin-greaves/
END:VEVENT
BEGIN:VEVENT
DTSTART;TZID=Pacific/Auckland:20170519T180000
DTEND;TZID=Pacific/Auckland:20170519T200000
DTSTAMP:20260425T235746
CREATED:20170317T001839Z
LAST-MODIFIED:20170502T224609Z
UID:2915-1495216800-1495224000@www.taumarunuirsa.co.nz
SUMMARY:Friday Membership Draw & 8 Ball
DESCRIPTION:$100-$1000 envelopes \n$25 Restaurant voucher draw if Membership Draw doesn’t go \nFriday Night Pool \nSingles every Friday night from 6.30pm \n1st $50 Restaurant Voucher \nRunner Up $25 Restaurant Voucher
URL:https://www.taumarunuirsa.co.nz/event/friday-membership-draw-12/
END:VEVENT
BEGIN:VEVENT
DTSTART;TZID=Pacific/Auckland:20170518T133000
DTEND;TZID=Pacific/Auckland:20170518T153000
DTSTAMP:20260425T235746
CREATED:20170317T004017Z
LAST-MODIFIED:20170317T004017Z
UID:2958-1495114200-1495121400@www.taumarunuirsa.co.nz
SUMMARY:Thursday Snooker
DESCRIPTION:
URL:https://www.taumarunuirsa.co.nz/event/thursday-snooker-13/
END:VEVENT
BEGIN:VEVENT
DTSTART;TZID=Pacific/Auckland:20170516T180000
DTEND;TZID=Pacific/Auckland:20170516T190000
DTSTAMP:20260425T235746
CREATED:20170317T002752Z
LAST-MODIFIED:20170317T002752Z
UID:2935-1494957600-1494961200@www.taumarunuirsa.co.nz
SUMMARY:Tuesday Draw & Quiz Night
DESCRIPTION:
URL:https://www.taumarunuirsa.co.nz/event/tuesday-draw-quiz-night-11/
END:VEVENT
BEGIN:VEVENT
DTSTART;TZID=Pacific/Auckland:20170514T120000
DTEND;TZID=Pacific/Auckland:20170514T160000
DTSTAMP:20260425T235746
CREATED:20170428T024358Z
LAST-MODIFIED:20170507T224714Z
UID:2978-1494763200-1494777600@www.taumarunuirsa.co.nz
SUMMARY:Mother's Day
DESCRIPTION:$10 Roast Lunch Choice of Roast Pork with Apple Sauce & Gravy or Roast Beef with Horseradish & Gravy\, Roast Potatoes\, Roast Kumara\, Roast Pumpkin\, Brussel Sprouts in Cheese Sauce\, Carrots & Minted Peas or $15 including Dessert Pavlova\, Fruit Salad & Ice Cream. \nCourtesy Van Available Phone 07 895 7517 \nEntertainment – Stagetalk from 1pm. \nMembers\, Member’s Guests & Affiliated Members Welcome \n 
URL:https://www.taumarunuirsa.co.nz/event/mothers-day/
END:VEVENT
BEGIN:VEVENT
DTSTART;TZID=Pacific/Auckland:20170512T180000
DTEND;TZID=Pacific/Auckland:20170512T200000
DTSTAMP:20260425T235746
CREATED:20170317T001809Z
LAST-MODIFIED:20170502T224539Z
UID:2913-1494612000-1494619200@www.taumarunuirsa.co.nz
SUMMARY:Friday Membership Draw & 8 Ball
DESCRIPTION:$100-$1000 envelopes \n$25 Restaurant voucher draw if Membership Draw doesn’t go \nFriday Night Pool \nSingles every Friday night from 6.30pm \n1st $50 Restaurant Voucher \nRunner Up $25 Restaurant Voucher
URL:https://www.taumarunuirsa.co.nz/event/friday-membership-draw-11/
END:VEVENT
BEGIN:VEVENT
DTSTART;TZID=Pacific/Auckland:20170511T133000
DTEND;TZID=Pacific/Auckland:20170511T153000
DTSTAMP:20260425T235746
CREATED:20170317T003932Z
LAST-MODIFIED:20170317T003932Z
UID:2956-1494509400-1494516600@www.taumarunuirsa.co.nz
SUMMARY:Thursday Snooker
DESCRIPTION:
URL:https://www.taumarunuirsa.co.nz/event/thursday-snooker-12/
END:VEVENT
BEGIN:VEVENT
DTSTART;TZID=Pacific/Auckland:20170510T133000
DTEND;TZID=Pacific/Auckland:20170510T153000
DTSTAMP:20260425T235746
CREATED:20170502T232144Z
LAST-MODIFIED:20170502T232144Z
UID:3032-1494423000-1494430200@www.taumarunuirsa.co.nz
SUMMARY:Thursday Snooker
DESCRIPTION:
URL:https://www.taumarunuirsa.co.nz/event/thursday-snooker-25/
END:VEVENT
BEGIN:VEVENT
DTSTART;TZID=Pacific/Auckland:20170509T180000
DTEND;TZID=Pacific/Auckland:20170509T190000
DTSTAMP:20260425T235746
CREATED:20170317T002716Z
LAST-MODIFIED:20170317T002716Z
UID:2933-1494352800-1494356400@www.taumarunuirsa.co.nz
SUMMARY:Tuesday Draw & Quiz Night
DESCRIPTION:
URL:https://www.taumarunuirsa.co.nz/event/tuesday-draw-quiz-night-10/
END:VEVENT
BEGIN:VEVENT
DTSTART;TZID=Pacific/Auckland:20170505T180000
DTEND;TZID=Pacific/Auckland:20170505T200000
DTSTAMP:20260425T235746
CREATED:20170317T001709Z
LAST-MODIFIED:20170502T224505Z
UID:2911-1494007200-1494014400@www.taumarunuirsa.co.nz
SUMMARY:Friday Membership Draw & 8 Ball
DESCRIPTION:$100-$1000 envelopes \n$25 Restaurant voucher draw if Membership Draw doesn’t go \nFriday Night Pool \nSingles every Friday night from 6.30pm \n1st $50 Restaurant Voucher \nRunner Up $25 Restaurant Voucher
URL:https://www.taumarunuirsa.co.nz/event/friday-membership-draw-10/
END:VEVENT
BEGIN:VEVENT
DTSTART;TZID=Pacific/Auckland:20170504T133000
DTEND;TZID=Pacific/Auckland:20170504T153000
DTSTAMP:20260425T235746
CREATED:20170317T003900Z
LAST-MODIFIED:20170317T003900Z
UID:2954-1493904600-1493911800@www.taumarunuirsa.co.nz
SUMMARY:Thursday Snooker
DESCRIPTION:
URL:https://www.taumarunuirsa.co.nz/event/thursday-snooker-11/
END:VEVENT
BEGIN:VEVENT
DTSTART;TZID=Pacific/Auckland:20170502T180000
DTEND;TZID=Pacific/Auckland:20170502T190000
DTSTAMP:20260425T235746
CREATED:20170317T002644Z
LAST-MODIFIED:20170317T002644Z
UID:2931-1493748000-1493751600@www.taumarunuirsa.co.nz
SUMMARY:Tuesday Draw & Quiz Night
DESCRIPTION:
URL:https://www.taumarunuirsa.co.nz/event/tuesday-draw-quiz-night-9/
END:VEVENT
BEGIN:VEVENT
DTSTART;TZID=Pacific/Auckland:20170428T180000
DTEND;TZID=Pacific/Auckland:20170428T190000
DTSTAMP:20260425T235746
CREATED:20170317T001636Z
LAST-MODIFIED:20170317T001636Z
UID:2909-1493402400-1493406000@www.taumarunuirsa.co.nz
SUMMARY:Friday Membership Draw
DESCRIPTION:
URL:https://www.taumarunuirsa.co.nz/event/friday-membership-draw-9/
END:VEVENT
BEGIN:VEVENT
DTSTART;TZID=Pacific/Auckland:20170427T133000
DTEND;TZID=Pacific/Auckland:20170427T153000
DTSTAMP:20260425T235746
CREATED:20170317T003833Z
LAST-MODIFIED:20170317T003833Z
UID:2952-1493299800-1493307000@www.taumarunuirsa.co.nz
SUMMARY:Thursday Snooker
DESCRIPTION:
URL:https://www.taumarunuirsa.co.nz/event/thursday-snooker-10/
END:VEVENT
BEGIN:VEVENT
DTSTART;VALUE=DATE:20170425
DTEND;VALUE=DATE:20170426
DTSTAMP:20260425T235746
CREATED:20170317T002613Z
LAST-MODIFIED:20170317T002613Z
UID:2929-1493078400-1493164799@www.taumarunuirsa.co.nz
SUMMARY:ANZAC DAY
DESCRIPTION:Dawn Service leaving RSA at 5.45am for Wayside Cross Service at 6am \nCivic Service leaving RSA at 10.40am for Memorial Hall Service at 11am \nTuesday Draw & Quiz Night from 6pm.
URL:https://www.taumarunuirsa.co.nz/event/anzac-day-3/
END:VEVENT
BEGIN:VEVENT
DTSTART;TZID=Pacific/Auckland:20170421T180000
DTEND;TZID=Pacific/Auckland:20170421T190000
DTSTAMP:20260425T235746
CREATED:20170317T001604Z
LAST-MODIFIED:20170317T001604Z
UID:2907-1492797600-1492801200@www.taumarunuirsa.co.nz
SUMMARY:Friday Membership Draw
DESCRIPTION:
URL:https://www.taumarunuirsa.co.nz/event/friday-membership-draw-8/
END:VEVENT
BEGIN:VEVENT
DTSTART;TZID=Pacific/Auckland:20170420T133000
DTEND;TZID=Pacific/Auckland:20170420T153000
DTSTAMP:20260425T235746
CREATED:20170317T003704Z
LAST-MODIFIED:20170317T003704Z
UID:2950-1492695000-1492702200@www.taumarunuirsa.co.nz
SUMMARY:Thursday Snooker
DESCRIPTION:
URL:https://www.taumarunuirsa.co.nz/event/thursday-snooker-9/
END:VEVENT
BEGIN:VEVENT
DTSTART;TZID=Pacific/Auckland:20170418T180000
DTEND;TZID=Pacific/Auckland:20170418T190000
DTSTAMP:20260425T235746
CREATED:20170317T002349Z
LAST-MODIFIED:20170317T002349Z
UID:2927-1492538400-1492542000@www.taumarunuirsa.co.nz
SUMMARY:Tuesday Draw & Quiz Night
DESCRIPTION:
URL:https://www.taumarunuirsa.co.nz/event/tuesday-draw-quiz-night-8/
END:VEVENT
BEGIN:VEVENT
DTSTART;TZID=Pacific/Auckland:20170416T120000
DTEND;TZID=Pacific/Auckland:20170416T163000
DTSTAMP:20260425T235746
CREATED:20170317T010525Z
LAST-MODIFIED:20170317T010710Z
UID:2962-1492344000-1492360200@www.taumarunuirsa.co.nz
SUMMARY:Stagetalk
DESCRIPTION:Pre-show Lunch from Midday-1.30pm \nSpecial Buffet $20 including Dessert \nCourtesy Van Available Phone 07 895 7517 \nMembers\, Member’s Guests & Affiliated Members Welcome
URL:https://www.taumarunuirsa.co.nz/event/ebonivory-6/
END:VEVENT
BEGIN:VEVENT
DTSTART;TZID=Pacific/Auckland:20170414T180000
DTEND;TZID=Pacific/Auckland:20170414T190000
DTSTAMP:20260425T235746
CREATED:20170317T001530Z
LAST-MODIFIED:20170317T001530Z
UID:2905-1492192800-1492196400@www.taumarunuirsa.co.nz
SUMMARY:Friday Membership Draw
DESCRIPTION:
URL:https://www.taumarunuirsa.co.nz/event/friday-membership-draw-7/
END:VEVENT
BEGIN:VEVENT
DTSTART;TZID=Pacific/Auckland:20170413T133000
DTEND;TZID=Pacific/Auckland:20170413T153000
DTSTAMP:20260425T235746
CREATED:20170317T003632Z
LAST-MODIFIED:20170317T003632Z
UID:2948-1492090200-1492097400@www.taumarunuirsa.co.nz
SUMMARY:Thursday Snooker
DESCRIPTION:
URL:https://www.taumarunuirsa.co.nz/event/thursday-snooker-8/
END:VEVENT
END:VCALENDAR