BEGIN:VCALENDAR
VERSION:2.0
PRODID:-//Taumarunui RSA - ECPv6.15.20//NONSGML v1.0//EN
CALSCALE:GREGORIAN
METHOD:PUBLISH
X-WR-CALNAME:Taumarunui RSA
X-ORIGINAL-URL:https://www.taumarunuirsa.co.nz
X-WR-CALDESC:Events for Taumarunui RSA
REFRESH-INTERVAL;VALUE=DURATION:PT1H
X-Robots-Tag:noindex
X-PUBLISHED-TTL:PT1H
BEGIN:VTIMEZONE
TZID:Pacific/Auckland
BEGIN:STANDARD
TZOFFSETFROM:+1300
TZOFFSETTO:+1200
TZNAME:NZST
DTSTART:20160402T140000
END:STANDARD
BEGIN:DAYLIGHT
TZOFFSETFROM:+1200
TZOFFSETTO:+1300
TZNAME:NZDT
DTSTART:20160924T140000
END:DAYLIGHT
BEGIN:STANDARD
TZOFFSETFROM:+1300
TZOFFSETTO:+1200
TZNAME:NZST
DTSTART:20170401T140000
END:STANDARD
BEGIN:DAYLIGHT
TZOFFSETFROM:+1200
TZOFFSETTO:+1300
TZNAME:NZDT
DTSTART:20170923T140000
END:DAYLIGHT
BEGIN:STANDARD
TZOFFSETFROM:+1300
TZOFFSETTO:+1200
TZNAME:NZST
DTSTART:20180331T140000
END:STANDARD
BEGIN:DAYLIGHT
TZOFFSETFROM:+1200
TZOFFSETTO:+1300
TZNAME:NZDT
DTSTART:20180929T140000
END:DAYLIGHT
END:VTIMEZONE
BEGIN:VEVENT
DTSTART;TZID=Pacific/Auckland:20171031T180000
DTEND;TZID=Pacific/Auckland:20171031T200000
DTSTAMP:20260422T113445
CREATED:20170614T001933Z
LAST-MODIFIED:20170614T001933Z
UID:3098-1509472800-1509480000@www.taumarunuirsa.co.nz
SUMMARY:Membership Draw & Quiz Night
DESCRIPTION:Quiz Starts at 6pm \nMembership Draw approx. 7pm
URL:https://www.taumarunuirsa.co.nz/event/membership-draw-quiz-night-36/
END:VEVENT
BEGIN:VEVENT
DTSTART;TZID=Pacific/Auckland:20171029T120000
DTEND;TZID=Pacific/Auckland:20171029T140000
DTSTAMP:20260422T113445
CREATED:20170718T000338Z
LAST-MODIFIED:20170718T000338Z
UID:3194-1509278400-1509285600@www.taumarunuirsa.co.nz
SUMMARY:Sunday Roast
DESCRIPTION:
URL:https://www.taumarunuirsa.co.nz/event/sunday-roast-15/
LOCATION:Taumarunui & District RSA\, 10 Marae Street\, Taumarunui\, New Zealand
END:VEVENT
BEGIN:VEVENT
DTSTART;TZID=Pacific/Auckland:20171027T180000
DTEND;TZID=Pacific/Auckland:20171027T200000
DTSTAMP:20260422T113445
CREATED:20170614T012738Z
LAST-MODIFIED:20170614T012738Z
UID:3154-1509127200-1509134400@www.taumarunuirsa.co.nz
SUMMARY:Membership Draw & 8 Ball
DESCRIPTION:$100-$1000 envelopes $25 Restaurant voucher draw if Membership Draw doesn’t go Friday Night Pool Singles every Friday night from 6.30pm 1st $50 Restaurant Voucher Runner Up $25 Restaurant Voucher
URL:https://www.taumarunuirsa.co.nz/event/membership-draw-8-ball-30/
END:VEVENT
BEGIN:VEVENT
DTSTART;TZID=Pacific/Auckland:20171026T133000
DTEND;TZID=Pacific/Auckland:20171026T153000
DTSTAMP:20260422T113445
CREATED:20170614T003409Z
LAST-MODIFIED:20170614T003409Z
UID:3123-1509024600-1509031800@www.taumarunuirsa.co.nz
SUMMARY:Thursday Snooker
DESCRIPTION:
URL:https://www.taumarunuirsa.co.nz/event/thursday-snooker-36/
END:VEVENT
BEGIN:VEVENT
DTSTART;TZID=Pacific/Auckland:20171024T180000
DTEND;TZID=Pacific/Auckland:20171024T200000
DTSTAMP:20260422T113445
CREATED:20170614T001851Z
LAST-MODIFIED:20170614T001851Z
UID:3096-1508868000-1508875200@www.taumarunuirsa.co.nz
SUMMARY:Membership Draw & Quiz Night
DESCRIPTION:Quiz Starts at 6pm \nMembership Draw approx. 7pm
URL:https://www.taumarunuirsa.co.nz/event/membership-draw-quiz-night-35/
END:VEVENT
BEGIN:VEVENT
DTSTART;TZID=Pacific/Auckland:20171022T120000
DTEND;TZID=Pacific/Auckland:20171022T140000
DTSTAMP:20260422T113445
CREATED:20170718T000148Z
LAST-MODIFIED:20170718T000148Z
UID:3192-1508673600-1508680800@www.taumarunuirsa.co.nz
SUMMARY:Sunday Roast
DESCRIPTION:
URL:https://www.taumarunuirsa.co.nz/event/sunday-roast-14/
LOCATION:Taumarunui & District RSA\, 10 Marae Street\, Taumarunui\, New Zealand
END:VEVENT
BEGIN:VEVENT
DTSTART;TZID=Pacific/Auckland:20171020T180000
DTEND;TZID=Pacific/Auckland:20171020T200000
DTSTAMP:20260422T113445
CREATED:20170614T012317Z
LAST-MODIFIED:20170614T012410Z
UID:3152-1508522400-1508529600@www.taumarunuirsa.co.nz
SUMMARY:Membership Draw & 8 Ball
DESCRIPTION:$100-$1000 envelopes $25 Restaurant voucher draw if Membership Draw doesn’t go Friday Night Pool Singles every Friday night from 6.30pm 1st $50 Restaurant Voucher Runner Up $25 Restaurant Voucher
URL:https://www.taumarunuirsa.co.nz/event/membership-draw-8-ball-29/
END:VEVENT
BEGIN:VEVENT
DTSTART;TZID=Pacific/Auckland:20171019T133000
DTEND;TZID=Pacific/Auckland:20171019T153000
DTSTAMP:20260422T113445
CREATED:20170614T003142Z
LAST-MODIFIED:20170614T003142Z
UID:3120-1508419800-1508427000@www.taumarunuirsa.co.nz
SUMMARY:Thursday Snooker
DESCRIPTION:
URL:https://www.taumarunuirsa.co.nz/event/thursday-snooker-35/
END:VEVENT
BEGIN:VEVENT
DTSTART;TZID=Pacific/Auckland:20171017T180000
DTEND;TZID=Pacific/Auckland:20171017T200000
DTSTAMP:20260422T113445
CREATED:20170614T001814Z
LAST-MODIFIED:20170614T001814Z
UID:3094-1508263200-1508270400@www.taumarunuirsa.co.nz
SUMMARY:Membership Draw & Quiz Night
DESCRIPTION:Quiz Starts at 6pm \nMembership Draw approx. 7pm
URL:https://www.taumarunuirsa.co.nz/event/membership-draw-quiz-night-34/
END:VEVENT
BEGIN:VEVENT
DTSTART;TZID=Pacific/Auckland:20171015T120000
DTEND;TZID=Pacific/Auckland:20171015T140000
DTSTAMP:20260422T113445
CREATED:20170718T000110Z
LAST-MODIFIED:20170718T000110Z
UID:3190-1508068800-1508076000@www.taumarunuirsa.co.nz
SUMMARY:Sunday Roast
DESCRIPTION:
URL:https://www.taumarunuirsa.co.nz/event/sunday-roast-13/
LOCATION:Taumarunui & District RSA\, 10 Marae Street\, Taumarunui\, New Zealand
END:VEVENT
BEGIN:VEVENT
DTSTART;TZID=Pacific/Auckland:20171013T180000
DTEND;TZID=Pacific/Auckland:20171013T200000
DTSTAMP:20260422T113445
CREATED:20170614T012226Z
LAST-MODIFIED:20170614T012226Z
UID:3150-1507917600-1507924800@www.taumarunuirsa.co.nz
SUMMARY:Membership Draw & 8 Ball
DESCRIPTION:$100-$1000 envelopes $25 Restaurant voucher draw if Membership Draw doesn’t go Friday Night Pool Singles every Friday night from 6.30pm 1st $50 Restaurant Voucher Runner Up $25 Restaurant Voucher
URL:https://www.taumarunuirsa.co.nz/event/membership-draw-8-ball-28/
END:VEVENT
BEGIN:VEVENT
DTSTART;TZID=Pacific/Auckland:20171012T133000
DTEND;TZID=Pacific/Auckland:20171012T153000
DTSTAMP:20260422T113445
CREATED:20170614T003042Z
LAST-MODIFIED:20170614T003042Z
UID:3118-1507815000-1507822200@www.taumarunuirsa.co.nz
SUMMARY:Thursday Snooker
DESCRIPTION:
URL:https://www.taumarunuirsa.co.nz/event/thursday-snooker-34/
END:VEVENT
BEGIN:VEVENT
DTSTART;TZID=Pacific/Auckland:20171010T180000
DTEND;TZID=Pacific/Auckland:20171010T200000
DTSTAMP:20260422T113445
CREATED:20170614T001721Z
LAST-MODIFIED:20170614T001721Z
UID:3092-1507658400-1507665600@www.taumarunuirsa.co.nz
SUMMARY:Membership Draw & Quiz Night
DESCRIPTION:Quiz Starts at 6pm \nMembership Draw approx. 7pm
URL:https://www.taumarunuirsa.co.nz/event/membership-draw-quiz-night-33/
END:VEVENT
BEGIN:VEVENT
DTSTART;TZID=Pacific/Auckland:20171008T120000
DTEND;TZID=Pacific/Auckland:20171008T140000
DTSTAMP:20260422T113445
CREATED:20170718T000010Z
LAST-MODIFIED:20170718T000010Z
UID:3188-1507464000-1507471200@www.taumarunuirsa.co.nz
SUMMARY:Sunday Roast
DESCRIPTION:
URL:https://www.taumarunuirsa.co.nz/event/sunday-roast-12/
LOCATION:Taumarunui & District RSA\, 10 Marae Street\, Taumarunui\, New Zealand
END:VEVENT
BEGIN:VEVENT
DTSTART;TZID=Pacific/Auckland:20171006T180000
DTEND;TZID=Pacific/Auckland:20171006T200000
DTSTAMP:20260422T113445
CREATED:20170614T011505Z
LAST-MODIFIED:20170614T011505Z
UID:3148-1507312800-1507320000@www.taumarunuirsa.co.nz
SUMMARY:Membership Draw & 8 Ball
DESCRIPTION:$100-$1000 envelopes $25 Restaurant voucher draw if Membership Draw doesn’t go Friday Night Pool Singles every Friday night from 6.30pm 1st $50 Restaurant Voucher Runner Up $25 Restaurant Voucher
URL:https://www.taumarunuirsa.co.nz/event/membership-draw-8-ball-27/
END:VEVENT
BEGIN:VEVENT
DTSTART;TZID=Pacific/Auckland:20171005T133000
DTEND;TZID=Pacific/Auckland:20171005T153000
DTSTAMP:20260422T113445
CREATED:20170614T003004Z
LAST-MODIFIED:20170614T003004Z
UID:3116-1507210200-1507217400@www.taumarunuirsa.co.nz
SUMMARY:Thursday Snooker
DESCRIPTION:
URL:https://www.taumarunuirsa.co.nz/event/thursday-snooker-33/
END:VEVENT
BEGIN:VEVENT
DTSTART;TZID=Pacific/Auckland:20171003T180000
DTEND;TZID=Pacific/Auckland:20171003T200000
DTSTAMP:20260422T113445
CREATED:20170614T001640Z
LAST-MODIFIED:20170614T001640Z
UID:3090-1507053600-1507060800@www.taumarunuirsa.co.nz
SUMMARY:Membership Draw & Quiz Night
DESCRIPTION:Quiz Starts at 6pm \nMembership Draw approx. 7pm
URL:https://www.taumarunuirsa.co.nz/event/membership-draw-quiz-night-32/
END:VEVENT
BEGIN:VEVENT
DTSTART;TZID=Pacific/Auckland:20171001T120000
DTEND;TZID=Pacific/Auckland:20171001T140000
DTSTAMP:20260422T113445
CREATED:20170717T235833Z
LAST-MODIFIED:20170717T235833Z
UID:3186-1506859200-1506866400@www.taumarunuirsa.co.nz
SUMMARY:Sunday Roast
DESCRIPTION:
URL:https://www.taumarunuirsa.co.nz/event/sunday-roast-11/
LOCATION:Taumarunui & District RSA\, 10 Marae Street\, Taumarunui\, New Zealand
END:VEVENT
BEGIN:VEVENT
DTSTART;TZID=Pacific/Auckland:20170929T180000
DTEND;TZID=Pacific/Auckland:20170929T200000
DTSTAMP:20260422T113445
CREATED:20170614T011417Z
LAST-MODIFIED:20170614T011417Z
UID:3146-1506708000-1506715200@www.taumarunuirsa.co.nz
SUMMARY:Membership Draw & 8 Ball
DESCRIPTION:$100-$1000 envelopes $25 Restaurant voucher draw if Membership Draw doesn’t go Friday Night Pool Singles every Friday night from 6.30pm 1st $50 Restaurant Voucher Runner Up $25 Restaurant Voucher
URL:https://www.taumarunuirsa.co.nz/event/membership-draw-8-ball-26/
END:VEVENT
BEGIN:VEVENT
DTSTART;TZID=Pacific/Auckland:20170928T133000
DTEND;TZID=Pacific/Auckland:20170928T153000
DTSTAMP:20260422T113445
CREATED:20170614T002921Z
LAST-MODIFIED:20170614T002921Z
UID:3114-1506605400-1506612600@www.taumarunuirsa.co.nz
SUMMARY:Thursday Snooker
DESCRIPTION:
URL:https://www.taumarunuirsa.co.nz/event/thursday-snooker-32/
END:VEVENT
BEGIN:VEVENT
DTSTART;TZID=Pacific/Auckland:20170926T180000
DTEND;TZID=Pacific/Auckland:20170926T200000
DTSTAMP:20260422T113445
CREATED:20170614T001545Z
LAST-MODIFIED:20170614T001545Z
UID:3088-1506448800-1506456000@www.taumarunuirsa.co.nz
SUMMARY:Membership Draw & Quiz Night
DESCRIPTION:Quiz Starts at 6pm \nMembership Draw approx. 7pm
URL:https://www.taumarunuirsa.co.nz/event/membership-draw-quiz-night-31/
END:VEVENT
BEGIN:VEVENT
DTSTART;TZID=Pacific/Auckland:20170924T120000
DTEND;TZID=Pacific/Auckland:20170924T140000
DTSTAMP:20260422T113445
CREATED:20170717T235747Z
LAST-MODIFIED:20170717T235747Z
UID:3184-1506254400-1506261600@www.taumarunuirsa.co.nz
SUMMARY:Sunday Roast
DESCRIPTION:
URL:https://www.taumarunuirsa.co.nz/event/sunday-roast-10/
LOCATION:Taumarunui & District RSA\, 10 Marae Street\, Taumarunui\, New Zealand
END:VEVENT
BEGIN:VEVENT
DTSTART;TZID=Pacific/Auckland:20170922T180000
DTEND;TZID=Pacific/Auckland:20170922T200000
DTSTAMP:20260422T113445
CREATED:20170614T011238Z
LAST-MODIFIED:20170614T011238Z
UID:3144-1506103200-1506110400@www.taumarunuirsa.co.nz
SUMMARY:Membership Draw & 8 Ball
DESCRIPTION:$100-$1000 envelopes $25 Restaurant voucher draw if Membership Draw doesn’t go Friday Night Pool Singles every Friday night from 6.30pm 1st $50 Restaurant Voucher Runner Up $25 Restaurant Voucher
URL:https://www.taumarunuirsa.co.nz/event/membership-draw-8-ball-25/
END:VEVENT
BEGIN:VEVENT
DTSTART;TZID=Pacific/Auckland:20170921T133000
DTEND;TZID=Pacific/Auckland:20170921T153000
DTSTAMP:20260422T113445
CREATED:20170614T002850Z
LAST-MODIFIED:20170614T002850Z
UID:3112-1506000600-1506007800@www.taumarunuirsa.co.nz
SUMMARY:Thursday Snooker
DESCRIPTION:
URL:https://www.taumarunuirsa.co.nz/event/thursday-snooker-31/
END:VEVENT
BEGIN:VEVENT
DTSTART;TZID=Pacific/Auckland:20170919T180000
DTEND;TZID=Pacific/Auckland:20170919T200000
DTSTAMP:20260422T113445
CREATED:20170614T001238Z
LAST-MODIFIED:20170614T001238Z
UID:3086-1505844000-1505851200@www.taumarunuirsa.co.nz
SUMMARY:Membership Draw & Quiz Night
DESCRIPTION:Quiz Starts at 6pm \nMembership Draw approx. 7pm
URL:https://www.taumarunuirsa.co.nz/event/membership-draw-quiz-night-30/
END:VEVENT
BEGIN:VEVENT
DTSTART;TZID=Pacific/Auckland:20170917T120000
DTEND;TZID=Pacific/Auckland:20170917T140000
DTSTAMP:20260422T113445
CREATED:20170717T235704Z
LAST-MODIFIED:20170717T235704Z
UID:3182-1505649600-1505656800@www.taumarunuirsa.co.nz
SUMMARY:Sunday Roast
DESCRIPTION:
URL:https://www.taumarunuirsa.co.nz/event/sunday-roast-9/
LOCATION:Taumarunui & District RSA\, 10 Marae Street\, Taumarunui\, New Zealand
END:VEVENT
BEGIN:VEVENT
DTSTART;TZID=Pacific/Auckland:20170915T193000
DTEND;TZID=Pacific/Auckland:20170915T233000
DTSTAMP:20260422T113445
CREATED:20170731T001024Z
LAST-MODIFIED:20170731T001024Z
UID:3201-1505503800-1505518200@www.taumarunuirsa.co.nz
SUMMARY:Emerald Duo
DESCRIPTION:No Cover Charge\nCourtesy Van Available Phone 895 7517\nRestaurant Open from 5.30pm
URL:https://www.taumarunuirsa.co.nz/event/emerald-duo-2/
LOCATION:Taumarunui & District RSA\, 10 Marae Street\, Taumarunui\, New Zealand
END:VEVENT
BEGIN:VEVENT
DTSTART;TZID=Pacific/Auckland:20170915T180000
DTEND;TZID=Pacific/Auckland:20170915T200000
DTSTAMP:20260422T113445
CREATED:20170614T011109Z
LAST-MODIFIED:20170614T011109Z
UID:3142-1505498400-1505505600@www.taumarunuirsa.co.nz
SUMMARY:Membership Draw & 8 Ball
DESCRIPTION:$100-$1000 envelopes $25 Restaurant voucher draw if Membership Draw doesn’t go Friday Night Pool Singles every Friday night from 6.30pm 1st $50 Restaurant Voucher Runner Up $25 Restaurant Voucher
URL:https://www.taumarunuirsa.co.nz/event/membership-draw-8-ball-24/
END:VEVENT
BEGIN:VEVENT
DTSTART;TZID=Pacific/Auckland:20170914T133000
DTEND;TZID=Pacific/Auckland:20170914T153000
DTSTAMP:20260422T113445
CREATED:20170614T002627Z
LAST-MODIFIED:20170614T002627Z
UID:3110-1505395800-1505403000@www.taumarunuirsa.co.nz
SUMMARY:Thursday Snooker
DESCRIPTION:
URL:https://www.taumarunuirsa.co.nz/event/thursday-snooker-30/
END:VEVENT
BEGIN:VEVENT
DTSTART;TZID=Pacific/Auckland:20170912T180000
DTEND;TZID=Pacific/Auckland:20170912T200000
DTSTAMP:20260422T113445
CREATED:20170614T001156Z
LAST-MODIFIED:20170614T001156Z
UID:3084-1505239200-1505246400@www.taumarunuirsa.co.nz
SUMMARY:Membership Draw & Quiz Night
DESCRIPTION:Quiz Starts at 6pm \nMembership Draw approx. 7pm
URL:https://www.taumarunuirsa.co.nz/event/membership-draw-quiz-night-29/
END:VEVENT
END:VCALENDAR