BEGIN:VCALENDAR
VERSION:2.0
PRODID:-//Taumarunui RSA - ECPv6.15.20//NONSGML v1.0//EN
CALSCALE:GREGORIAN
METHOD:PUBLISH
X-WR-CALNAME:Taumarunui RSA
X-ORIGINAL-URL:https://www.taumarunuirsa.co.nz
X-WR-CALDESC:Events for Taumarunui RSA
REFRESH-INTERVAL;VALUE=DURATION:PT1H
X-Robots-Tag:noindex
X-PUBLISHED-TTL:PT1H
BEGIN:VTIMEZONE
TZID:Pacific/Auckland
BEGIN:STANDARD
TZOFFSETFROM:+1300
TZOFFSETTO:+1200
TZNAME:NZST
DTSTART:20170401T140000
END:STANDARD
BEGIN:DAYLIGHT
TZOFFSETFROM:+1200
TZOFFSETTO:+1300
TZNAME:NZDT
DTSTART:20170923T140000
END:DAYLIGHT
BEGIN:STANDARD
TZOFFSETFROM:+1300
TZOFFSETTO:+1200
TZNAME:NZST
DTSTART:20180331T140000
END:STANDARD
BEGIN:DAYLIGHT
TZOFFSETFROM:+1200
TZOFFSETTO:+1300
TZNAME:NZDT
DTSTART:20180929T140000
END:DAYLIGHT
BEGIN:STANDARD
TZOFFSETFROM:+1300
TZOFFSETTO:+1200
TZNAME:NZST
DTSTART:20190406T140000
END:STANDARD
BEGIN:DAYLIGHT
TZOFFSETFROM:+1200
TZOFFSETTO:+1300
TZNAME:NZDT
DTSTART:20190928T140000
END:DAYLIGHT
END:VTIMEZONE
BEGIN:VEVENT
DTSTART;TZID=Pacific/Auckland:20181002T180000
DTEND;TZID=Pacific/Auckland:20181002T200000
DTSTAMP:20260420T200842
CREATED:20180908T004134Z
LAST-MODIFIED:20180908T004134Z
UID:3514-1538503200-1538510400@www.taumarunuirsa.co.nz
SUMMARY:Membership Draw & Quiz Night
DESCRIPTION:Quiz Starts at 6pm. Membership Draw approx 7pm
URL:https://www.taumarunuirsa.co.nz/event/membership-draw-quiz-night-76/
LOCATION:Taumarunui & District RSA\, 10 Marae Street\, Taumarunui\, New Zealand
END:VEVENT
BEGIN:VEVENT
DTSTART;VALUE=DATE:20180929
DTEND;VALUE=DATE:20180930
DTSTAMP:20260420T200842
CREATED:20180219T055421Z
LAST-MODIFIED:20180219T055421Z
UID:3326-1538179200-1538265599@www.taumarunuirsa.co.nz
SUMMARY:4 Corners 8 Ball
DESCRIPTION:10.45am Start
URL:https://www.taumarunuirsa.co.nz/event/4-corners-8-ball-8/
LOCATION:Tokaanu Turangi RSA
END:VEVENT
BEGIN:VEVENT
DTSTART;TZID=Pacific/Auckland:20180928T180000
DTEND;TZID=Pacific/Auckland:20180928T200000
DTSTAMP:20260420T200842
CREATED:20180908T012130Z
LAST-MODIFIED:20180908T012130Z
UID:3566-1538157600-1538164800@www.taumarunuirsa.co.nz
SUMMARY:Membership Draw & 8 Ball
DESCRIPTION:$100-$1000 envelopes $25 Restaurant voucher draw if Membership Draw doesn’t go Friday Night Pool Singles every Friday night from 6.30pm 1st $50 Restaurant Voucher Runner Up $25 Restaurant Voucher
URL:https://www.taumarunuirsa.co.nz/event/membership-draw-8-ball-66/
LOCATION:Taumarunui & District RSA\, 10 Marae Street\, Taumarunui\, New Zealand
END:VEVENT
BEGIN:VEVENT
DTSTART;TZID=Pacific/Auckland:20180927T133000
DTEND;TZID=Pacific/Auckland:20180927T153000
DTSTAMP:20260420T200842
CREATED:20180908T010016Z
LAST-MODIFIED:20180908T010016Z
UID:3539-1538055000-1538062200@www.taumarunuirsa.co.nz
SUMMARY:Thursday Snooker
DESCRIPTION:
URL:https://www.taumarunuirsa.co.nz/event/thursday-snooker-77/
LOCATION:Taumarunui & District RSA\, 10 Marae Street\, Taumarunui\, New Zealand
END:VEVENT
BEGIN:VEVENT
DTSTART;TZID=Pacific/Auckland:20180925T180000
DTEND;TZID=Pacific/Auckland:20180925T200000
DTSTAMP:20260420T200842
CREATED:20180908T003521Z
LAST-MODIFIED:20180908T003521Z
UID:3512-1537898400-1537905600@www.taumarunuirsa.co.nz
SUMMARY:Membership Draw & Quiz Night
DESCRIPTION:Quiz Starts at 6pm. Membership Draw approx 7pm
URL:https://www.taumarunuirsa.co.nz/event/membership-draw-quiz-night-75/
LOCATION:Taumarunui & District RSA\, 10 Marae Street\, Taumarunui\, New Zealand
END:VEVENT
BEGIN:VEVENT
DTSTART;TZID=Pacific/Auckland:20180922T193000
DTEND;TZID=Pacific/Auckland:20180922T233000
DTSTAMP:20260420T200842
CREATED:20180219T062749Z
LAST-MODIFIED:20180219T062749Z
UID:3379-1537644600-1537659000@www.taumarunuirsa.co.nz
SUMMARY:Just Us
DESCRIPTION:Restaurant Open from 5.30pm\nCourtesy Van Operating
URL:https://www.taumarunuirsa.co.nz/event/just-us-3/
LOCATION:Taumarunui & District RSA\, 10 Marae Street\, Taumarunui\, New Zealand
END:VEVENT
BEGIN:VEVENT
DTSTART;TZID=Pacific/Auckland:20180921T180000
DTEND;TZID=Pacific/Auckland:20180921T200000
DTSTAMP:20260420T200842
CREATED:20180908T012022Z
LAST-MODIFIED:20180908T012022Z
UID:3564-1537552800-1537560000@www.taumarunuirsa.co.nz
SUMMARY:Membership Draw & 8 Ball
DESCRIPTION:$100-$1000 envelopes $25 Restaurant voucher draw if Membership Draw doesn’t go Friday Night Pool Singles every Friday night from 6.30pm 1st $50 Restaurant Voucher Runner Up $25 Restaurant Voucher
URL:https://www.taumarunuirsa.co.nz/event/membership-draw-8-ball-65/
LOCATION:Taumarunui & District RSA\, 10 Marae Street\, Taumarunui\, New Zealand
END:VEVENT
BEGIN:VEVENT
DTSTART;TZID=Pacific/Auckland:20180920T133000
DTEND;TZID=Pacific/Auckland:20180920T153000
DTSTAMP:20260420T200842
CREATED:20180908T005937Z
LAST-MODIFIED:20180908T005937Z
UID:3537-1537450200-1537457400@www.taumarunuirsa.co.nz
SUMMARY:Thursday Snooker
DESCRIPTION:
URL:https://www.taumarunuirsa.co.nz/event/thursday-snooker-76/
LOCATION:Taumarunui & District RSA\, 10 Marae Street\, Taumarunui\, New Zealand
END:VEVENT
BEGIN:VEVENT
DTSTART;TZID=Pacific/Auckland:20180918T180000
DTEND;TZID=Pacific/Auckland:20180918T200000
DTSTAMP:20260420T200842
CREATED:20180908T003351Z
LAST-MODIFIED:20180908T003351Z
UID:3510-1537293600-1537300800@www.taumarunuirsa.co.nz
SUMMARY:Membership Draw & Quiz Night
DESCRIPTION:Quiz Starts at 6pm. Membership Draw approx 7pm
URL:https://www.taumarunuirsa.co.nz/event/membership-draw-quiz-night-74/
LOCATION:Taumarunui & District RSA\, 10 Marae Street\, Taumarunui\, New Zealand
END:VEVENT
BEGIN:VEVENT
DTSTART;TZID=Pacific/Auckland:20180915T193000
DTEND;TZID=Pacific/Auckland:20180915T233000
DTSTAMP:20260420T200842
CREATED:20180219T062638Z
LAST-MODIFIED:20180219T062638Z
UID:3377-1537039800-1537054200@www.taumarunuirsa.co.nz
SUMMARY:John McGough
DESCRIPTION:Restaurant Open from 5.30pm\nCourtesy Van Operating
URL:https://www.taumarunuirsa.co.nz/event/john-mcgough-3/
LOCATION:Taumarunui & District RSA\, 10 Marae Street\, Taumarunui\, New Zealand
END:VEVENT
BEGIN:VEVENT
DTSTART;TZID=Pacific/Auckland:20180914T180000
DTEND;TZID=Pacific/Auckland:20180914T200000
DTSTAMP:20260420T200842
CREATED:20180908T011925Z
LAST-MODIFIED:20180908T011925Z
UID:3562-1536948000-1536955200@www.taumarunuirsa.co.nz
SUMMARY:Membership Draw & 8 Ball
DESCRIPTION:$100-$1000 envelopes $25 Restaurant voucher draw if Membership Draw doesn’t go Friday Night Pool Singles every Friday night from 6.30pm 1st $50 Restaurant Voucher Runner Up $25 Restaurant Voucher
URL:https://www.taumarunuirsa.co.nz/event/membership-draw-8-ball-64/
LOCATION:Taumarunui & District RSA\, 10 Marae Street\, Taumarunui\, New Zealand
END:VEVENT
BEGIN:VEVENT
DTSTART;TZID=Pacific/Auckland:20180913T133000
DTEND;TZID=Pacific/Auckland:20180913T153000
DTSTAMP:20260420T200842
CREATED:20180908T005855Z
LAST-MODIFIED:20180908T005855Z
UID:3535-1536845400-1536852600@www.taumarunuirsa.co.nz
SUMMARY:Thursday Snooker
DESCRIPTION:
URL:https://www.taumarunuirsa.co.nz/event/thursday-snooker-75/
LOCATION:Taumarunui & District RSA\, 10 Marae Street\, Taumarunui\, New Zealand
END:VEVENT
BEGIN:VEVENT
DTSTART;TZID=Pacific/Auckland:20180911T180000
DTEND;TZID=Pacific/Auckland:20180911T200000
DTSTAMP:20260420T200842
CREATED:20180908T003253Z
LAST-MODIFIED:20180908T003253Z
UID:3508-1536688800-1536696000@www.taumarunuirsa.co.nz
SUMMARY:Membership Draw & Quiz Night
DESCRIPTION:Quiz Starts at 6pm. Membership Draw approx 7pm
URL:https://www.taumarunuirsa.co.nz/event/membership-draw-quiz-night-73/
LOCATION:Taumarunui & District RSA\, 10 Marae Street\, Taumarunui\, New Zealand
END:VEVENT
BEGIN:VEVENT
DTSTART;TZID=Pacific/Auckland:20180908T193000
DTEND;TZID=Pacific/Auckland:20180908T233000
DTSTAMP:20260420T200842
CREATED:20180219T062539Z
LAST-MODIFIED:20180219T062539Z
UID:3375-1536435000-1536449400@www.taumarunuirsa.co.nz
SUMMARY:Emerald Duo
DESCRIPTION:Restaurant Open from 5.30pm\nCourtesy Van Operating
URL:https://www.taumarunuirsa.co.nz/event/emerald-duo-5/
LOCATION:Taumarunui & District RSA\, 10 Marae Street\, Taumarunui\, New Zealand
END:VEVENT
BEGIN:VEVENT
DTSTART;TZID=Pacific/Auckland:20180907T180000
DTEND;TZID=Pacific/Auckland:20180907T200000
DTSTAMP:20260420T200842
CREATED:20180908T011818Z
LAST-MODIFIED:20180908T011818Z
UID:3560-1536343200-1536350400@www.taumarunuirsa.co.nz
SUMMARY:Membership Draw & 8 Ball
DESCRIPTION:$100-$1000 envelopes $25 Restaurant voucher draw if Membership Draw doesn’t go Friday Night Pool Singles every Friday night from 6.30pm 1st $50 Restaurant Voucher Runner Up $25 Restaurant Voucher
URL:https://www.taumarunuirsa.co.nz/event/membership-draw-8-ball-63/
LOCATION:Taumarunui & District RSA\, 10 Marae Street\, Taumarunui\, New Zealand
END:VEVENT
BEGIN:VEVENT
DTSTART;TZID=Pacific/Auckland:20180906T133000
DTEND;TZID=Pacific/Auckland:20180906T153000
DTSTAMP:20260420T200842
CREATED:20180908T005759Z
LAST-MODIFIED:20180908T005759Z
UID:3533-1536240600-1536247800@www.taumarunuirsa.co.nz
SUMMARY:Thursday Snooker
DESCRIPTION:
URL:https://www.taumarunuirsa.co.nz/event/thursday-snooker-74/
LOCATION:Taumarunui & District RSA\, 10 Marae Street\, Taumarunui\, New Zealand
END:VEVENT
BEGIN:VEVENT
DTSTART;TZID=Pacific/Auckland:20180904T180000
DTEND;TZID=Pacific/Auckland:20180904T200000
DTSTAMP:20260420T200842
CREATED:20180908T003204Z
LAST-MODIFIED:20180908T003204Z
UID:3506-1536084000-1536091200@www.taumarunuirsa.co.nz
SUMMARY:Membership Draw & Quiz Night
DESCRIPTION:Quiz Starts at 6pm. Membership Draw approx 7pm
URL:https://www.taumarunuirsa.co.nz/event/membership-draw-quiz-night-72/
LOCATION:Taumarunui & District RSA\, 10 Marae Street\, Taumarunui\, New Zealand
END:VEVENT
BEGIN:VEVENT
DTSTART;VALUE=DATE:20180901
DTEND;VALUE=DATE:20180902
DTSTAMP:20260420T200842
CREATED:20180219T060914Z
LAST-MODIFIED:20180219T060914Z
UID:3351-1535760000-1535846399@www.taumarunuirsa.co.nz
SUMMARY:Mountaineers 8 Ball
DESCRIPTION:10.45am Start
URL:https://www.taumarunuirsa.co.nz/event/mountaineers-8-ball-9/
LOCATION:Taumarunui Cossie
END:VEVENT
BEGIN:VEVENT
DTSTART;TZID=Pacific/Auckland:20180831T180000
DTEND;TZID=Pacific/Auckland:20180831T200000
DTSTAMP:20260420T200842
CREATED:20180516T013534Z
LAST-MODIFIED:20180516T013534Z
UID:3503-1535738400-1535745600@www.taumarunuirsa.co.nz
SUMMARY:Membership Draw & 8 Ball
DESCRIPTION:$100-$1000 envelopes $25 Restaurant voucher draw if Membership Draw doesn’t go Friday Night Pool Singles every Friday night from 6.30pm 1st $50 Restaurant Voucher Runner Up $25 Restaurant Voucher
URL:https://www.taumarunuirsa.co.nz/event/membership-draw-8-ball-62/
LOCATION:Taumarunui & District RSA\, 10 Marae Street\, Taumarunui\, New Zealand
END:VEVENT
BEGIN:VEVENT
DTSTART;TZID=Pacific/Auckland:20180830T133000
DTEND;TZID=Pacific/Auckland:20180830T153000
DTSTAMP:20260420T200842
CREATED:20180516T011345Z
LAST-MODIFIED:20180516T011345Z
UID:3466-1535635800-1535643000@www.taumarunuirsa.co.nz
SUMMARY:Thursday Snooker
DESCRIPTION:
URL:https://www.taumarunuirsa.co.nz/event/thursday-snooker-73/
LOCATION:Taumarunui & District RSA\, 10 Marae Street\, Taumarunui\, New Zealand
END:VEVENT
BEGIN:VEVENT
DTSTART;TZID=Pacific/Auckland:20180828T180000
DTEND;TZID=Pacific/Auckland:20180828T200000
DTSTAMP:20260420T200842
CREATED:20180515T233813Z
LAST-MODIFIED:20180515T233813Z
UID:3429-1535479200-1535486400@www.taumarunuirsa.co.nz
SUMMARY:Membership Draw & Quiz Night
DESCRIPTION:Quiz Starts at 6pm.  Membership Draw approx 7pm
URL:https://www.taumarunuirsa.co.nz/event/membership-draw-quiz-night-71/
LOCATION:Taumarunui & District RSA\, 10 Marae Street\, Taumarunui\, New Zealand
END:VEVENT
BEGIN:VEVENT
DTSTART;TZID=Pacific/Auckland:20180825T080000
DTEND;TZID=Pacific/Auckland:20180825T170000
DTSTAMP:20260420T200842
CREATED:20180219T062419Z
LAST-MODIFIED:20180219T062419Z
UID:3373-1535184000-1535216400@www.taumarunuirsa.co.nz
SUMMARY:Ebonivory
DESCRIPTION:Restaurant Open from 5.30pm\nCourtesy Van Operating
URL:https://www.taumarunuirsa.co.nz/event/ebonivory-9/
LOCATION:Taumarunui & District RSA\, 10 Marae Street\, Taumarunui\, New Zealand
END:VEVENT
BEGIN:VEVENT
DTSTART;VALUE=DATE:20180825
DTEND;VALUE=DATE:20180826
DTSTAMP:20260420T200842
CREATED:20180219T055318Z
LAST-MODIFIED:20180219T055318Z
UID:3324-1535155200-1535241599@www.taumarunuirsa.co.nz
SUMMARY:4 Corners 8 Ball
DESCRIPTION:10.45am Start\nFor PD’Z
URL:https://www.taumarunuirsa.co.nz/event/4-corners-8-ball-7/
LOCATION:Taumarunui & District RSA\, 10 Marae Street\, Taumarunui\, New Zealand
END:VEVENT
BEGIN:VEVENT
DTSTART;TZID=Pacific/Auckland:20180824T180000
DTEND;TZID=Pacific/Auckland:20180824T200000
DTSTAMP:20260420T200842
CREATED:20180516T013438Z
LAST-MODIFIED:20180516T013438Z
UID:3501-1535133600-1535140800@www.taumarunuirsa.co.nz
SUMMARY:Membership Draw & 8 Ball
DESCRIPTION:$100-$1000 envelopes $25 Restaurant voucher draw if Membership Draw doesn’t go Friday Night Pool Singles every Friday night from 6.30pm 1st $50 Restaurant Voucher Runner Up $25 Restaurant Voucher
URL:https://www.taumarunuirsa.co.nz/event/membership-draw-8-ball-61/
LOCATION:Taumarunui & District RSA\, 10 Marae Street\, Taumarunui\, New Zealand
END:VEVENT
BEGIN:VEVENT
DTSTART;TZID=Pacific/Auckland:20180823T133000
DTEND;TZID=Pacific/Auckland:20180823T153000
DTSTAMP:20260420T200842
CREATED:20180516T011240Z
LAST-MODIFIED:20180516T011240Z
UID:3464-1535031000-1535038200@www.taumarunuirsa.co.nz
SUMMARY:Thursday Snooker
DESCRIPTION:
URL:https://www.taumarunuirsa.co.nz/event/thursday-snooker-72/
LOCATION:Taumarunui & District RSA\, 10 Marae Street\, Taumarunui\, New Zealand
END:VEVENT
BEGIN:VEVENT
DTSTART;TZID=Pacific/Auckland:20180821T180000
DTEND;TZID=Pacific/Auckland:20180821T200000
DTSTAMP:20260420T200842
CREATED:20180515T233712Z
LAST-MODIFIED:20180515T233712Z
UID:3427-1534874400-1534881600@www.taumarunuirsa.co.nz
SUMMARY:Membership Draw & Quiz Night
DESCRIPTION:Quiz Starts at 6pm.  Membership Draw approx 7pm
URL:https://www.taumarunuirsa.co.nz/event/membership-draw-quiz-night-70/
LOCATION:Taumarunui & District RSA\, 10 Marae Street\, Taumarunui\, New Zealand
END:VEVENT
BEGIN:VEVENT
DTSTART;TZID=Pacific/Auckland:20180817T180000
DTEND;TZID=Pacific/Auckland:20180817T200000
DTSTAMP:20260420T200842
CREATED:20180516T013350Z
LAST-MODIFIED:20180516T013350Z
UID:3499-1534528800-1534536000@www.taumarunuirsa.co.nz
SUMMARY:Membership Draw & 8 Ball
DESCRIPTION:$100-$1000 envelopes $25 Restaurant voucher draw if Membership Draw doesn’t go Friday Night Pool Singles every Friday night from 6.30pm 1st $50 Restaurant Voucher Runner Up $25 Restaurant Voucher
URL:https://www.taumarunuirsa.co.nz/event/membership-draw-8-ball-60/
LOCATION:Taumarunui & District RSA\, 10 Marae Street\, Taumarunui\, New Zealand
END:VEVENT
BEGIN:VEVENT
DTSTART;TZID=Pacific/Auckland:20180816T133000
DTEND;TZID=Pacific/Auckland:20180816T153000
DTSTAMP:20260420T200842
CREATED:20180516T011155Z
LAST-MODIFIED:20180516T011155Z
UID:3462-1534426200-1534433400@www.taumarunuirsa.co.nz
SUMMARY:Thursday Snooker
DESCRIPTION:
URL:https://www.taumarunuirsa.co.nz/event/thursday-snooker-71/
LOCATION:Taumarunui & District RSA\, 10 Marae Street\, Taumarunui\, New Zealand
END:VEVENT
BEGIN:VEVENT
DTSTART;TZID=Pacific/Auckland:20180814T180000
DTEND;TZID=Pacific/Auckland:20180814T200000
DTSTAMP:20260420T200842
CREATED:20180515T233554Z
LAST-MODIFIED:20180515T233554Z
UID:3425-1534269600-1534276800@www.taumarunuirsa.co.nz
SUMMARY:Membership Draw & Quiz Night
DESCRIPTION:Quiz Starts at 6pm.  Membership Draw approx 7pm
URL:https://www.taumarunuirsa.co.nz/event/membership-draw-quiz-night-69/
LOCATION:Taumarunui & District RSA\, 10 Marae Street\, Taumarunui\, New Zealand
END:VEVENT
BEGIN:VEVENT
DTSTART;TZID=Pacific/Auckland:20180811T193000
DTEND;TZID=Pacific/Auckland:20180811T233000
DTSTAMP:20260420T200842
CREATED:20180219T062320Z
LAST-MODIFIED:20180219T062320Z
UID:3371-1534015800-1534030200@www.taumarunuirsa.co.nz
SUMMARY:Stagetalk
DESCRIPTION:Restaurant Open from 5.30pm\nCourtesy Van Operating
URL:https://www.taumarunuirsa.co.nz/event/stagetalk-3/
LOCATION:Taumarunui & District RSA\, 10 Marae Street\, Taumarunui\, New Zealand
END:VEVENT
END:VCALENDAR