BEGIN:VCALENDAR
VERSION:2.0
PRODID:-//Taumarunui RSA - ECPv6.15.20//NONSGML v1.0//EN
CALSCALE:GREGORIAN
METHOD:PUBLISH
X-WR-CALNAME:Taumarunui RSA
X-ORIGINAL-URL:https://www.taumarunuirsa.co.nz
X-WR-CALDESC:Events for Taumarunui RSA
REFRESH-INTERVAL;VALUE=DURATION:PT1H
X-Robots-Tag:noindex
X-PUBLISHED-TTL:PT1H
BEGIN:VTIMEZONE
TZID:Pacific/Auckland
BEGIN:STANDARD
TZOFFSETFROM:+1300
TZOFFSETTO:+1200
TZNAME:NZST
DTSTART:20170401T140000
END:STANDARD
BEGIN:DAYLIGHT
TZOFFSETFROM:+1200
TZOFFSETTO:+1300
TZNAME:NZDT
DTSTART:20170923T140000
END:DAYLIGHT
BEGIN:STANDARD
TZOFFSETFROM:+1300
TZOFFSETTO:+1200
TZNAME:NZST
DTSTART:20180331T140000
END:STANDARD
BEGIN:DAYLIGHT
TZOFFSETFROM:+1200
TZOFFSETTO:+1300
TZNAME:NZDT
DTSTART:20180929T140000
END:DAYLIGHT
BEGIN:STANDARD
TZOFFSETFROM:+1300
TZOFFSETTO:+1200
TZNAME:NZST
DTSTART:20190406T140000
END:STANDARD
BEGIN:DAYLIGHT
TZOFFSETFROM:+1200
TZOFFSETTO:+1300
TZNAME:NZDT
DTSTART:20190928T140000
END:DAYLIGHT
END:VTIMEZONE
BEGIN:VEVENT
DTSTART;TZID=Pacific/Auckland:20180811T193000
DTEND;TZID=Pacific/Auckland:20180811T233000
DTSTAMP:20260421T154430
CREATED:20180219T062320Z
LAST-MODIFIED:20180219T062320Z
UID:3371-1534015800-1534030200@www.taumarunuirsa.co.nz
SUMMARY:Stagetalk
DESCRIPTION:Restaurant Open from 5.30pm\nCourtesy Van Operating
URL:https://www.taumarunuirsa.co.nz/event/stagetalk-3/
LOCATION:Taumarunui & District RSA\, 10 Marae Street\, Taumarunui\, New Zealand
END:VEVENT
BEGIN:VEVENT
DTSTART;TZID=Pacific/Auckland:20180810T180000
DTEND;TZID=Pacific/Auckland:20180810T200000
DTSTAMP:20260421T154430
CREATED:20180516T013304Z
LAST-MODIFIED:20180516T013304Z
UID:3497-1533924000-1533931200@www.taumarunuirsa.co.nz
SUMMARY:Membership Draw & 8 Ball
DESCRIPTION:$100-$1000 envelopes $25 Restaurant voucher draw if Membership Draw doesn’t go Friday Night Pool Singles every Friday night from 6.30pm 1st $50 Restaurant Voucher Runner Up $25 Restaurant Voucher
URL:https://www.taumarunuirsa.co.nz/event/membership-draw-8-ball-59/
LOCATION:Taumarunui & District RSA\, 10 Marae Street\, Taumarunui\, New Zealand
END:VEVENT
BEGIN:VEVENT
DTSTART;TZID=Pacific/Auckland:20180809T133000
DTEND;TZID=Pacific/Auckland:20180809T153000
DTSTAMP:20260421T154430
CREATED:20180516T011117Z
LAST-MODIFIED:20180516T011117Z
UID:3460-1533821400-1533828600@www.taumarunuirsa.co.nz
SUMMARY:Thursday Snooker
DESCRIPTION:
URL:https://www.taumarunuirsa.co.nz/event/thursday-snooker-70/
LOCATION:Taumarunui & District RSA\, 10 Marae Street\, Taumarunui\, New Zealand
END:VEVENT
BEGIN:VEVENT
DTSTART;TZID=Pacific/Auckland:20180807T180000
DTEND;TZID=Pacific/Auckland:20180807T200000
DTSTAMP:20260421T154430
CREATED:20180515T233431Z
LAST-MODIFIED:20180515T233431Z
UID:3423-1533664800-1533672000@www.taumarunuirsa.co.nz
SUMMARY:Membership Draw & Quiz Night
DESCRIPTION:Quiz Starts at 6pm.  Membership Draw approx 7pm
URL:https://www.taumarunuirsa.co.nz/event/membership-draw-quiz-night-68/
LOCATION:Taumarunui & District RSA\, 10 Marae Street\, Taumarunui\, New Zealand
END:VEVENT
BEGIN:VEVENT
DTSTART;VALUE=DATE:20180804
DTEND;VALUE=DATE:20180805
DTSTAMP:20260421T154430
CREATED:20180219T060757Z
LAST-MODIFIED:20180219T060757Z
UID:3349-1533340800-1533427199@www.taumarunuirsa.co.nz
SUMMARY:Mountaineers 8 Ball
DESCRIPTION:10.45am Start
URL:https://www.taumarunuirsa.co.nz/event/mountaineers-8-ball-8/
LOCATION:Raetihi Cossie
END:VEVENT
BEGIN:VEVENT
DTSTART;TZID=Pacific/Auckland:20180803T180000
DTEND;TZID=Pacific/Auckland:20180803T200000
DTSTAMP:20260421T154430
CREATED:20180516T013221Z
LAST-MODIFIED:20180516T013221Z
UID:3495-1533319200-1533326400@www.taumarunuirsa.co.nz
SUMMARY:Membership Draw & 8 Ball
DESCRIPTION:$100-$1000 envelopes $25 Restaurant voucher draw if Membership Draw doesn’t go Friday Night Pool Singles every Friday night from 6.30pm 1st $50 Restaurant Voucher Runner Up $25 Restaurant Voucher
URL:https://www.taumarunuirsa.co.nz/event/membership-draw-8-ball-58/
LOCATION:Taumarunui & District RSA\, 10 Marae Street\, Taumarunui\, New Zealand
END:VEVENT
BEGIN:VEVENT
DTSTART;TZID=Pacific/Auckland:20180802T133000
DTEND;TZID=Pacific/Auckland:20180802T153000
DTSTAMP:20260421T154430
CREATED:20180516T011010Z
LAST-MODIFIED:20180516T011010Z
UID:3458-1533216600-1533223800@www.taumarunuirsa.co.nz
SUMMARY:Thursday Snooker
DESCRIPTION:
URL:https://www.taumarunuirsa.co.nz/event/thursday-snooker-69/
LOCATION:Taumarunui & District RSA\, 10 Marae Street\, Taumarunui\, New Zealand
END:VEVENT
BEGIN:VEVENT
DTSTART;TZID=Pacific/Auckland:20180731T180000
DTEND;TZID=Pacific/Auckland:20180731T200000
DTSTAMP:20260421T154430
CREATED:20180515T233247Z
LAST-MODIFIED:20180515T233247Z
UID:3421-1533060000-1533067200@www.taumarunuirsa.co.nz
SUMMARY:Membership Draw & Quiz Night
DESCRIPTION:Quiz Starts at 6pm.  Membership Draw approx 7pm
URL:https://www.taumarunuirsa.co.nz/event/membership-draw-quiz-night-67/
LOCATION:Taumarunui & District RSA\, 10 Marae Street\, Taumarunui\, New Zealand
END:VEVENT
BEGIN:VEVENT
DTSTART;VALUE=DATE:20180728
DTEND;VALUE=DATE:20180729
DTSTAMP:20260421T154430
CREATED:20180219T053900Z
LAST-MODIFIED:20180219T053900Z
UID:3322-1532736000-1532822399@www.taumarunuirsa.co.nz
SUMMARY:4 Corners 8 Ball
DESCRIPTION:10.45am Start
URL:https://www.taumarunuirsa.co.nz/event/4-corners-8-ball-6/
LOCATION:Taumarunui Cossie
END:VEVENT
BEGIN:VEVENT
DTSTART;TZID=Pacific/Auckland:20180727T180000
DTEND;TZID=Pacific/Auckland:20180727T200000
DTSTAMP:20260421T154430
CREATED:20180516T013126Z
LAST-MODIFIED:20180516T013126Z
UID:3493-1532714400-1532721600@www.taumarunuirsa.co.nz
SUMMARY:Membership Draw & 8 Ball
DESCRIPTION:$100-$1000 envelopes $25 Restaurant voucher draw if Membership Draw doesn’t go Friday Night Pool Singles every Friday night from 6.30pm 1st $50 Restaurant Voucher Runner Up $25 Restaurant Voucher
URL:https://www.taumarunuirsa.co.nz/event/membership-draw-8-ball-57/
LOCATION:Taumarunui & District RSA\, 10 Marae Street\, Taumarunui\, New Zealand
END:VEVENT
BEGIN:VEVENT
DTSTART;TZID=Pacific/Auckland:20180726T133000
DTEND;TZID=Pacific/Auckland:20180726T153000
DTSTAMP:20260421T154430
CREATED:20180516T010933Z
LAST-MODIFIED:20180516T010933Z
UID:3456-1532611800-1532619000@www.taumarunuirsa.co.nz
SUMMARY:Thursday Snooker
DESCRIPTION:
URL:https://www.taumarunuirsa.co.nz/event/thursday-snooker-68/
LOCATION:Taumarunui & District RSA\, 10 Marae Street\, Taumarunui\, New Zealand
END:VEVENT
BEGIN:VEVENT
DTSTART;TZID=Pacific/Auckland:20180724T180000
DTEND;TZID=Pacific/Auckland:20180724T200000
DTSTAMP:20260421T154430
CREATED:20180515T233150Z
LAST-MODIFIED:20180515T233150Z
UID:3419-1532455200-1532462400@www.taumarunuirsa.co.nz
SUMMARY:Membership Draw & Quiz Night
DESCRIPTION:Quiz Starts at 6pm.  Membership Draw approx 7pm
URL:https://www.taumarunuirsa.co.nz/event/membership-draw-quiz-night-66/
LOCATION:Taumarunui & District RSA\, 10 Marae Street\, Taumarunui\, New Zealand
END:VEVENT
BEGIN:VEVENT
DTSTART;VALUE=DATE:20180721
DTEND;VALUE=DATE:20180722
DTSTAMP:20260421T154430
CREATED:20180219T055919Z
LAST-MODIFIED:20180219T055919Z
UID:3335-1532131200-1532217599@www.taumarunuirsa.co.nz
SUMMARY:K.C. Open Pairs
DESCRIPTION:
URL:https://www.taumarunuirsa.co.nz/event/k-c-open-pairs/
LOCATION:Taumarunui & District RSA\, 10 Marae Street\, Taumarunui\, New Zealand
END:VEVENT
BEGIN:VEVENT
DTSTART;TZID=Pacific/Auckland:20180720T180000
DTEND;TZID=Pacific/Auckland:20180720T200000
DTSTAMP:20260421T154430
CREATED:20180516T013038Z
LAST-MODIFIED:20180516T013038Z
UID:3491-1532109600-1532116800@www.taumarunuirsa.co.nz
SUMMARY:Membership Draw & 8 Ball
DESCRIPTION:$100-$1000 envelopes $25 Restaurant voucher draw if Membership Draw doesn’t go Friday Night Pool Singles every Friday night from 6.30pm 1st $50 Restaurant Voucher Runner Up $25 Restaurant Voucher
URL:https://www.taumarunuirsa.co.nz/event/membership-draw-8-ball-56/
LOCATION:Taumarunui & District RSA\, 10 Marae Street\, Taumarunui\, New Zealand
END:VEVENT
BEGIN:VEVENT
DTSTART;TZID=Pacific/Auckland:20180719T133000
DTEND;TZID=Pacific/Auckland:20180719T153000
DTSTAMP:20260421T154430
CREATED:20180516T010844Z
LAST-MODIFIED:20180516T010844Z
UID:3454-1532007000-1532014200@www.taumarunuirsa.co.nz
SUMMARY:Thursday Snooker
DESCRIPTION:
URL:https://www.taumarunuirsa.co.nz/event/thursday-snooker-67/
LOCATION:Taumarunui & District RSA\, 10 Marae Street\, Taumarunui\, New Zealand
END:VEVENT
BEGIN:VEVENT
DTSTART;TZID=Pacific/Auckland:20180717T180000
DTEND;TZID=Pacific/Auckland:20180717T200000
DTSTAMP:20260421T154430
CREATED:20180515T233046Z
LAST-MODIFIED:20180515T233046Z
UID:3417-1531850400-1531857600@www.taumarunuirsa.co.nz
SUMMARY:Membership Draw & Quiz Night
DESCRIPTION:Quiz Starts at 6pm.  Membership Draw approx 7pm
URL:https://www.taumarunuirsa.co.nz/event/membership-draw-quiz-night-65/
LOCATION:Taumarunui & District RSA\, 10 Marae Street\, Taumarunui\, New Zealand
END:VEVENT
BEGIN:VEVENT
DTSTART;TZID=Pacific/Auckland:20180713T180000
DTEND;TZID=Pacific/Auckland:20180713T200000
DTSTAMP:20260421T154430
CREATED:20180516T012952Z
LAST-MODIFIED:20180516T012952Z
UID:3489-1531504800-1531512000@www.taumarunuirsa.co.nz
SUMMARY:Membership Draw & 8 Ball
DESCRIPTION:$100-$1000 envelopes $25 Restaurant voucher draw if Membership Draw doesn’t go Friday Night Pool Singles every Friday night from 6.30pm 1st $50 Restaurant Voucher Runner Up $25 Restaurant Voucher
URL:https://www.taumarunuirsa.co.nz/event/membership-draw-8-ball-55/
LOCATION:Taumarunui & District RSA\, 10 Marae Street\, Taumarunui\, New Zealand
END:VEVENT
BEGIN:VEVENT
DTSTART;TZID=Pacific/Auckland:20180712T133000
DTEND;TZID=Pacific/Auckland:20180712T153000
DTSTAMP:20260421T154430
CREATED:20180516T010709Z
LAST-MODIFIED:20180516T010709Z
UID:3452-1531402200-1531409400@www.taumarunuirsa.co.nz
SUMMARY:Thursday Snooker
DESCRIPTION:
URL:https://www.taumarunuirsa.co.nz/event/thursday-snooker-66/
LOCATION:Taumarunui & District RSA\, 10 Marae Street\, Taumarunui\, New Zealand
END:VEVENT
BEGIN:VEVENT
DTSTART;TZID=Pacific/Auckland:20180710T180000
DTEND;TZID=Pacific/Auckland:20180710T200000
DTSTAMP:20260421T154430
CREATED:20180515T232957Z
LAST-MODIFIED:20180515T232957Z
UID:3415-1531245600-1531252800@www.taumarunuirsa.co.nz
SUMMARY:Membership Draw & Quiz Night
DESCRIPTION:Quiz Starts at 6pm.  Membership Draw approx 7pm
URL:https://www.taumarunuirsa.co.nz/event/membership-draw-quiz-night-64/
LOCATION:Taumarunui & District RSA\, 10 Marae Street\, Taumarunui\, New Zealand
END:VEVENT
BEGIN:VEVENT
DTSTART;VALUE=DATE:20180707
DTEND;VALUE=DATE:20180708
DTSTAMP:20260421T154430
CREATED:20180219T060631Z
LAST-MODIFIED:20180219T060631Z
UID:3347-1530921600-1531007999@www.taumarunuirsa.co.nz
SUMMARY:Mountaineers 8 Ball
DESCRIPTION:10.45am Start
URL:https://www.taumarunuirsa.co.nz/event/mountaineers-8-ball-7/
LOCATION:Taumarunui & District RSA\, 10 Marae Street\, Taumarunui\, New Zealand
END:VEVENT
BEGIN:VEVENT
DTSTART;TZID=Pacific/Auckland:20180706T180000
DTEND;TZID=Pacific/Auckland:20180706T200000
DTSTAMP:20260421T154430
CREATED:20180516T012912Z
LAST-MODIFIED:20180516T012912Z
UID:3487-1530900000-1530907200@www.taumarunuirsa.co.nz
SUMMARY:Membership Draw & 8 Ball
DESCRIPTION:$100-$1000 envelopes $25 Restaurant voucher draw if Membership Draw doesn’t go Friday Night Pool Singles every Friday night from 6.30pm 1st $50 Restaurant Voucher Runner Up $25 Restaurant Voucher
URL:https://www.taumarunuirsa.co.nz/event/membership-draw-8-ball-54/
LOCATION:Taumarunui & District RSA\, 10 Marae Street\, Taumarunui\, New Zealand
END:VEVENT
BEGIN:VEVENT
DTSTART;TZID=Pacific/Auckland:20180705T133000
DTEND;TZID=Pacific/Auckland:20180705T153000
DTSTAMP:20260421T154430
CREATED:20180516T010632Z
LAST-MODIFIED:20180516T010632Z
UID:3450-1530797400-1530804600@www.taumarunuirsa.co.nz
SUMMARY:Thursday Snooker
DESCRIPTION:
URL:https://www.taumarunuirsa.co.nz/event/thursday-snooker-65/
LOCATION:Taumarunui & District RSA\, 10 Marae Street\, Taumarunui\, New Zealand
END:VEVENT
BEGIN:VEVENT
DTSTART;TZID=Pacific/Auckland:20180703T180000
DTEND;TZID=Pacific/Auckland:20180703T200000
DTSTAMP:20260421T154430
CREATED:20180515T232906Z
LAST-MODIFIED:20180515T232906Z
UID:3413-1530640800-1530648000@www.taumarunuirsa.co.nz
SUMMARY:Membership Draw & Quiz Night
DESCRIPTION:Quiz Starts at 6pm.  Membership Draw approx 7pm
URL:https://www.taumarunuirsa.co.nz/event/membership-draw-quiz-night-63/
LOCATION:Taumarunui & District RSA\, 10 Marae Street\, Taumarunui\, New Zealand
END:VEVENT
BEGIN:VEVENT
DTSTART;VALUE=DATE:20180630
DTEND;VALUE=DATE:20180701
DTSTAMP:20260421T154430
CREATED:20180219T053816Z
LAST-MODIFIED:20180219T053816Z
UID:3320-1530316800-1530403199@www.taumarunuirsa.co.nz
SUMMARY:4 Corners 8 Ball
DESCRIPTION:10.45am Start
URL:https://www.taumarunuirsa.co.nz/event/4-corners-8-ball-5/
LOCATION:Taumarunui & District RSA\, 10 Marae Street\, Taumarunui\, New Zealand
END:VEVENT
BEGIN:VEVENT
DTSTART;TZID=Pacific/Auckland:20180629T180000
DTEND;TZID=Pacific/Auckland:20180629T200000
DTSTAMP:20260421T154430
CREATED:20180516T012827Z
LAST-MODIFIED:20180516T012827Z
UID:3485-1530295200-1530302400@www.taumarunuirsa.co.nz
SUMMARY:Membership Draw & 8 Ball
DESCRIPTION:$100-$1000 envelopes $25 Restaurant voucher draw if Membership Draw doesn’t go Friday Night Pool Singles every Friday night from 6.30pm 1st $50 Restaurant Voucher Runner Up $25 Restaurant Voucher
URL:https://www.taumarunuirsa.co.nz/event/membership-draw-8-ball-53/
LOCATION:Taumarunui & District RSA\, 10 Marae Street\, Taumarunui\, New Zealand
END:VEVENT
BEGIN:VEVENT
DTSTART;TZID=Pacific/Auckland:20180628T133000
DTEND;TZID=Pacific/Auckland:20180628T153000
DTSTAMP:20260421T154430
CREATED:20180515T234650Z
LAST-MODIFIED:20180515T234650Z
UID:3448-1530192600-1530199800@www.taumarunuirsa.co.nz
SUMMARY:Thursday Snooker
DESCRIPTION:
URL:https://www.taumarunuirsa.co.nz/event/thursday-snooker-64/
LOCATION:Taumarunui & District RSA\, 10 Marae Street\, Taumarunui\, New Zealand
END:VEVENT
BEGIN:VEVENT
DTSTART;TZID=Pacific/Auckland:20180626T180000
DTEND;TZID=Pacific/Auckland:20180626T200000
DTSTAMP:20260421T154430
CREATED:20180515T232756Z
LAST-MODIFIED:20180515T232756Z
UID:3411-1530036000-1530043200@www.taumarunuirsa.co.nz
SUMMARY:Membership Draw & Quiz Night
DESCRIPTION:Quiz Starts at 6pm.  Membership Draw approx 7pm
URL:https://www.taumarunuirsa.co.nz/event/membership-draw-quiz-night-62/
LOCATION:Taumarunui & District RSA\, 10 Marae Street\, Taumarunui\, New Zealand
END:VEVENT
BEGIN:VEVENT
DTSTART;VALUE=DATE:20180623
DTEND;VALUE=DATE:20180624
DTSTAMP:20260421T154430
CREATED:20180219T055837Z
LAST-MODIFIED:20180219T055837Z
UID:3332-1529712000-1529798399@www.taumarunuirsa.co.nz
SUMMARY:K.C. Singles 8 Ball
DESCRIPTION:
URL:https://www.taumarunuirsa.co.nz/event/k-c-singles-8-ball/
LOCATION:Matiere Club
END:VEVENT
BEGIN:VEVENT
DTSTART;TZID=Pacific/Auckland:20180622T180000
DTEND;TZID=Pacific/Auckland:20180622T200000
DTSTAMP:20260421T154430
CREATED:20180516T012722Z
LAST-MODIFIED:20180516T012722Z
UID:3483-1529690400-1529697600@www.taumarunuirsa.co.nz
SUMMARY:Membership Draw & 8 Ball
DESCRIPTION:$100-$1000 envelopes $25 Restaurant voucher draw if Membership Draw doesn’t go Friday Night Pool Singles every Friday night from 6.30pm 1st $50 Restaurant Voucher Runner Up $25 Restaurant Voucher
URL:https://www.taumarunuirsa.co.nz/event/membership-draw-8-ball-52/
LOCATION:Taumarunui & District RSA\, 10 Marae Street\, Taumarunui\, New Zealand
END:VEVENT
BEGIN:VEVENT
DTSTART;TZID=Pacific/Auckland:20180621T133000
DTEND;TZID=Pacific/Auckland:20180621T153000
DTSTAMP:20260421T154430
CREATED:20180515T234613Z
LAST-MODIFIED:20180515T234613Z
UID:3446-1529587800-1529595000@www.taumarunuirsa.co.nz
SUMMARY:Thursday Snooker
DESCRIPTION:
URL:https://www.taumarunuirsa.co.nz/event/thursday-snooker-63/
LOCATION:Taumarunui & District RSA\, 10 Marae Street\, Taumarunui\, New Zealand
END:VEVENT
END:VCALENDAR