BEGIN:VCALENDAR
VERSION:2.0
PRODID:-//Taumarunui RSA - ECPv6.15.20//NONSGML v1.0//EN
CALSCALE:GREGORIAN
METHOD:PUBLISH
X-WR-CALNAME:Taumarunui RSA
X-ORIGINAL-URL:https://www.taumarunuirsa.co.nz
X-WR-CALDESC:Events for Taumarunui RSA
REFRESH-INTERVAL;VALUE=DURATION:PT1H
X-Robots-Tag:noindex
X-PUBLISHED-TTL:PT1H
BEGIN:VTIMEZONE
TZID:Pacific/Auckland
BEGIN:STANDARD
TZOFFSETFROM:+1300
TZOFFSETTO:+1200
TZNAME:NZST
DTSTART:20170401T140000
END:STANDARD
BEGIN:DAYLIGHT
TZOFFSETFROM:+1200
TZOFFSETTO:+1300
TZNAME:NZDT
DTSTART:20170923T140000
END:DAYLIGHT
BEGIN:STANDARD
TZOFFSETFROM:+1300
TZOFFSETTO:+1200
TZNAME:NZST
DTSTART:20180331T140000
END:STANDARD
BEGIN:DAYLIGHT
TZOFFSETFROM:+1200
TZOFFSETTO:+1300
TZNAME:NZDT
DTSTART:20180929T140000
END:DAYLIGHT
BEGIN:STANDARD
TZOFFSETFROM:+1300
TZOFFSETTO:+1200
TZNAME:NZST
DTSTART:20190406T140000
END:STANDARD
BEGIN:DAYLIGHT
TZOFFSETFROM:+1200
TZOFFSETTO:+1300
TZNAME:NZDT
DTSTART:20190928T140000
END:DAYLIGHT
END:VTIMEZONE
BEGIN:VEVENT
DTSTART;TZID=Pacific/Auckland:20180629T180000
DTEND;TZID=Pacific/Auckland:20180629T200000
DTSTAMP:20260422T003408
CREATED:20180516T012827Z
LAST-MODIFIED:20180516T012827Z
UID:3485-1530295200-1530302400@www.taumarunuirsa.co.nz
SUMMARY:Membership Draw & 8 Ball
DESCRIPTION:$100-$1000 envelopes $25 Restaurant voucher draw if Membership Draw doesn’t go Friday Night Pool Singles every Friday night from 6.30pm 1st $50 Restaurant Voucher Runner Up $25 Restaurant Voucher
URL:https://www.taumarunuirsa.co.nz/event/membership-draw-8-ball-53/
LOCATION:Taumarunui & District RSA\, 10 Marae Street\, Taumarunui\, New Zealand
END:VEVENT
BEGIN:VEVENT
DTSTART;TZID=Pacific/Auckland:20180628T133000
DTEND;TZID=Pacific/Auckland:20180628T153000
DTSTAMP:20260422T003408
CREATED:20180515T234650Z
LAST-MODIFIED:20180515T234650Z
UID:3448-1530192600-1530199800@www.taumarunuirsa.co.nz
SUMMARY:Thursday Snooker
DESCRIPTION:
URL:https://www.taumarunuirsa.co.nz/event/thursday-snooker-64/
LOCATION:Taumarunui & District RSA\, 10 Marae Street\, Taumarunui\, New Zealand
END:VEVENT
BEGIN:VEVENT
DTSTART;TZID=Pacific/Auckland:20180626T180000
DTEND;TZID=Pacific/Auckland:20180626T200000
DTSTAMP:20260422T003408
CREATED:20180515T232756Z
LAST-MODIFIED:20180515T232756Z
UID:3411-1530036000-1530043200@www.taumarunuirsa.co.nz
SUMMARY:Membership Draw & Quiz Night
DESCRIPTION:Quiz Starts at 6pm.  Membership Draw approx 7pm
URL:https://www.taumarunuirsa.co.nz/event/membership-draw-quiz-night-62/
LOCATION:Taumarunui & District RSA\, 10 Marae Street\, Taumarunui\, New Zealand
END:VEVENT
BEGIN:VEVENT
DTSTART;VALUE=DATE:20180623
DTEND;VALUE=DATE:20180624
DTSTAMP:20260422T003408
CREATED:20180219T055837Z
LAST-MODIFIED:20180219T055837Z
UID:3332-1529712000-1529798399@www.taumarunuirsa.co.nz
SUMMARY:K.C. Singles 8 Ball
DESCRIPTION:
URL:https://www.taumarunuirsa.co.nz/event/k-c-singles-8-ball/
LOCATION:Matiere Club
END:VEVENT
BEGIN:VEVENT
DTSTART;TZID=Pacific/Auckland:20180622T180000
DTEND;TZID=Pacific/Auckland:20180622T200000
DTSTAMP:20260422T003408
CREATED:20180516T012722Z
LAST-MODIFIED:20180516T012722Z
UID:3483-1529690400-1529697600@www.taumarunuirsa.co.nz
SUMMARY:Membership Draw & 8 Ball
DESCRIPTION:$100-$1000 envelopes $25 Restaurant voucher draw if Membership Draw doesn’t go Friday Night Pool Singles every Friday night from 6.30pm 1st $50 Restaurant Voucher Runner Up $25 Restaurant Voucher
URL:https://www.taumarunuirsa.co.nz/event/membership-draw-8-ball-52/
LOCATION:Taumarunui & District RSA\, 10 Marae Street\, Taumarunui\, New Zealand
END:VEVENT
BEGIN:VEVENT
DTSTART;TZID=Pacific/Auckland:20180621T133000
DTEND;TZID=Pacific/Auckland:20180621T153000
DTSTAMP:20260422T003408
CREATED:20180515T234613Z
LAST-MODIFIED:20180515T234613Z
UID:3446-1529587800-1529595000@www.taumarunuirsa.co.nz
SUMMARY:Thursday Snooker
DESCRIPTION:
URL:https://www.taumarunuirsa.co.nz/event/thursday-snooker-63/
LOCATION:Taumarunui & District RSA\, 10 Marae Street\, Taumarunui\, New Zealand
END:VEVENT
BEGIN:VEVENT
DTSTART;TZID=Pacific/Auckland:20180619T180000
DTEND;TZID=Pacific/Auckland:20180619T200000
DTSTAMP:20260422T003408
CREATED:20180515T232525Z
LAST-MODIFIED:20180515T232525Z
UID:3409-1529431200-1529438400@www.taumarunuirsa.co.nz
SUMMARY:Membership Draw & Quiz Night
DESCRIPTION:Quiz Starts at 6pm.  Membership Draw approx 7pm
URL:https://www.taumarunuirsa.co.nz/event/membership-draw-quiz-night-61/
LOCATION:Taumarunui & District RSA\, 10 Marae Street\, Taumarunui\, New Zealand
END:VEVENT
BEGIN:VEVENT
DTSTART;TZID=Pacific/Auckland:20180615T193000
DTEND;TZID=Pacific/Auckland:20180615T233000
DTSTAMP:20260422T003408
CREATED:20180219T062217Z
LAST-MODIFIED:20180219T062217Z
UID:3369-1529091000-1529105400@www.taumarunuirsa.co.nz
SUMMARY:Emerald Duo
DESCRIPTION:Restaurant Open from 5.30pm\nCourtesy Van Operating
URL:https://www.taumarunuirsa.co.nz/event/emerald-duo-4/
LOCATION:Taumarunui & District RSA\, 10 Marae Street\, Taumarunui\, New Zealand
END:VEVENT
BEGIN:VEVENT
DTSTART;TZID=Pacific/Auckland:20180615T180000
DTEND;TZID=Pacific/Auckland:20180615T200000
DTSTAMP:20260422T003408
CREATED:20180516T012620Z
LAST-MODIFIED:20180516T012620Z
UID:3480-1529085600-1529092800@www.taumarunuirsa.co.nz
SUMMARY:Membership Draw & 8 Ball
DESCRIPTION:$100-$1000 envelopes $25 Restaurant voucher draw if Membership Draw doesn’t go Friday Night Pool Singles every Friday night from 6.30pm 1st $50 Restaurant Voucher Runner Up $25 Restaurant Voucher
URL:https://www.taumarunuirsa.co.nz/event/membership-draw-8-ball-51/
LOCATION:Taumarunui & District RSA\, 10 Marae Street\, Taumarunui\, New Zealand
END:VEVENT
BEGIN:VEVENT
DTSTART;TZID=Pacific/Auckland:20180614T133000
DTEND;TZID=Pacific/Auckland:20180614T153000
DTSTAMP:20260422T003408
CREATED:20180515T234525Z
LAST-MODIFIED:20180515T234525Z
UID:3444-1528983000-1528990200@www.taumarunuirsa.co.nz
SUMMARY:Thursday Snooker
DESCRIPTION:
URL:https://www.taumarunuirsa.co.nz/event/thursday-snooker-62/
LOCATION:Taumarunui & District RSA\, 10 Marae Street\, Taumarunui\, New Zealand
END:VEVENT
BEGIN:VEVENT
DTSTART;TZID=Pacific/Auckland:20180612T180000
DTEND;TZID=Pacific/Auckland:20180612T200000
DTSTAMP:20260422T003408
CREATED:20180515T232432Z
LAST-MODIFIED:20180515T232432Z
UID:3407-1528826400-1528833600@www.taumarunuirsa.co.nz
SUMMARY:Membership Draw & Quiz Night
DESCRIPTION:Quiz Starts at 6pm.  Membership Draw approx 7pm
URL:https://www.taumarunuirsa.co.nz/event/membership-draw-quiz-night-60/
LOCATION:Taumarunui & District RSA\, 10 Marae Street\, Taumarunui\, New Zealand
END:VEVENT
BEGIN:VEVENT
DTSTART;VALUE=DATE:20180609
DTEND;VALUE=DATE:20180610
DTSTAMP:20260422T003408
CREATED:20180219T060547Z
LAST-MODIFIED:20180219T060547Z
UID:3344-1528502400-1528588799@www.taumarunuirsa.co.nz
SUMMARY:Mountaineers 8 Ball
DESCRIPTION:10.45am Start
URL:https://www.taumarunuirsa.co.nz/event/mountaineers-8-ball-6/
LOCATION:Heartlanz
END:VEVENT
BEGIN:VEVENT
DTSTART;TZID=Pacific/Auckland:20180608T180000
DTEND;TZID=Pacific/Auckland:20180608T200000
DTSTAMP:20260422T003408
CREATED:20180516T012457Z
LAST-MODIFIED:20180516T012457Z
UID:3478-1528480800-1528488000@www.taumarunuirsa.co.nz
SUMMARY:Membership Draw & 8 Ball
DESCRIPTION:$100-$1000 envelopes $25 Restaurant voucher draw if Membership Draw doesn’t go Friday Night Pool Singles every Friday night from 6.30pm 1st $50 Restaurant Voucher Runner Up $25 Restaurant Voucher
URL:https://www.taumarunuirsa.co.nz/event/membership-draw-8-ball-50/
LOCATION:Taumarunui & District RSA\, 10 Marae Street\, Taumarunui\, New Zealand
END:VEVENT
BEGIN:VEVENT
DTSTART;TZID=Pacific/Auckland:20180607T133000
DTEND;TZID=Pacific/Auckland:20180607T153000
DTSTAMP:20260422T003408
CREATED:20180515T234452Z
LAST-MODIFIED:20180515T234452Z
UID:3442-1528378200-1528385400@www.taumarunuirsa.co.nz
SUMMARY:Thursday Snooker
DESCRIPTION:
URL:https://www.taumarunuirsa.co.nz/event/thursday-snooker-61/
LOCATION:Taumarunui & District RSA\, 10 Marae Street\, Taumarunui\, New Zealand
END:VEVENT
BEGIN:VEVENT
DTSTART;TZID=Pacific/Auckland:20180605T180000
DTEND;TZID=Pacific/Auckland:20180605T200000
DTSTAMP:20260422T003408
CREATED:20180515T232349Z
LAST-MODIFIED:20180515T232349Z
UID:3405-1528221600-1528228800@www.taumarunuirsa.co.nz
SUMMARY:Membership Draw & Quiz Night
DESCRIPTION:Quiz Starts at 6pm.  Membership Draw approx 7pm
URL:https://www.taumarunuirsa.co.nz/event/membership-draw-quiz-night-59/
LOCATION:Taumarunui & District RSA\, 10 Marae Street\, Taumarunui\, New Zealand
END:VEVENT
BEGIN:VEVENT
DTSTART;TZID=Pacific/Auckland:20180601T180000
DTEND;TZID=Pacific/Auckland:20180601T200000
DTSTAMP:20260422T003408
CREATED:20180516T012408Z
LAST-MODIFIED:20180516T012408Z
UID:3476-1527876000-1527883200@www.taumarunuirsa.co.nz
SUMMARY:Membership Draw & 8 Ball
DESCRIPTION:$100-$1000 envelopes $25 Restaurant voucher draw if Membership Draw doesn’t go Friday Night Pool Singles every Friday night from 6.30pm 1st $50 Restaurant Voucher Runner Up $25 Restaurant Voucher
URL:https://www.taumarunuirsa.co.nz/event/membership-draw-8-ball-49/
LOCATION:Taumarunui & District RSA\, 10 Marae Street\, Taumarunui\, New Zealand
END:VEVENT
BEGIN:VEVENT
DTSTART;TZID=Pacific/Auckland:20180531T133000
DTEND;TZID=Pacific/Auckland:20180531T153000
DTSTAMP:20260422T003408
CREATED:20180515T234418Z
LAST-MODIFIED:20180515T234418Z
UID:3440-1527773400-1527780600@www.taumarunuirsa.co.nz
SUMMARY:Thursday Snooker
DESCRIPTION:
URL:https://www.taumarunuirsa.co.nz/event/thursday-snooker-60/
LOCATION:Taumarunui & District RSA\, 10 Marae Street\, Taumarunui\, New Zealand
END:VEVENT
BEGIN:VEVENT
DTSTART;TZID=Pacific/Auckland:20180529T180000
DTEND;TZID=Pacific/Auckland:20180529T200000
DTSTAMP:20260422T003408
CREATED:20180515T232307Z
LAST-MODIFIED:20180515T232307Z
UID:3403-1527616800-1527624000@www.taumarunuirsa.co.nz
SUMMARY:Membership Draw & Quiz Night
DESCRIPTION:Quiz Starts at 6pm.  Membership Draw approx 7pm
URL:https://www.taumarunuirsa.co.nz/event/membership-draw-quiz-night-58/
LOCATION:Taumarunui & District RSA\, 10 Marae Street\, Taumarunui\, New Zealand
END:VEVENT
BEGIN:VEVENT
DTSTART;TZID=Pacific/Auckland:20180526T193000
DTEND;TZID=Pacific/Auckland:20180526T233000
DTSTAMP:20260422T003408
CREATED:20180219T062042Z
LAST-MODIFIED:20180219T062042Z
UID:3367-1527363000-1527377400@www.taumarunuirsa.co.nz
SUMMARY:Stagetalk
DESCRIPTION:Restaurant Open from 5.30pm\nCourtesy Van Operating
URL:https://www.taumarunuirsa.co.nz/event/stagetalk-2/
LOCATION:Taumarunui & District RSA\, 10 Marae Street\, Taumarunui\, New Zealand
END:VEVENT
BEGIN:VEVENT
DTSTART;VALUE=DATE:20180526
DTEND;VALUE=DATE:20180527
DTSTAMP:20260422T003408
CREATED:20180219T053725Z
LAST-MODIFIED:20180219T053725Z
UID:3317-1527292800-1527379199@www.taumarunuirsa.co.nz
SUMMARY:4 Corners 8 Ball
DESCRIPTION:10.45am Start
URL:https://www.taumarunuirsa.co.nz/event/4-corners-8-ball-4/
LOCATION:Tokaanu Turangi RSA
END:VEVENT
BEGIN:VEVENT
DTSTART;TZID=Pacific/Auckland:20180525T180000
DTEND;TZID=Pacific/Auckland:20180525T200000
DTSTAMP:20260422T003408
CREATED:20180516T012228Z
LAST-MODIFIED:20180516T012228Z
UID:3474-1527271200-1527278400@www.taumarunuirsa.co.nz
SUMMARY:Membership Draw & 8 Ball
DESCRIPTION:$100-$1000 envelopes $25 Restaurant voucher draw if Membership Draw doesn’t go Friday Night Pool Singles every Friday night from 6.30pm 1st $50 Restaurant Voucher Runner Up $25 Restaurant Voucher
URL:https://www.taumarunuirsa.co.nz/event/membership-draw-8-ball-48/
LOCATION:Taumarunui & District RSA\, 10 Marae Street\, Taumarunui\, New Zealand
END:VEVENT
BEGIN:VEVENT
DTSTART;TZID=Pacific/Auckland:20180524T133000
DTEND;TZID=Pacific/Auckland:20180524T153000
DTSTAMP:20260422T003408
CREATED:20180515T234344Z
LAST-MODIFIED:20180515T234344Z
UID:3438-1527168600-1527175800@www.taumarunuirsa.co.nz
SUMMARY:Thursday Snooker
DESCRIPTION:
URL:https://www.taumarunuirsa.co.nz/event/thursday-snooker-59/
LOCATION:Taumarunui & District RSA\, 10 Marae Street\, Taumarunui\, New Zealand
END:VEVENT
BEGIN:VEVENT
DTSTART;TZID=Pacific/Auckland:20180522T180000
DTEND;TZID=Pacific/Auckland:20180522T200000
DTSTAMP:20260422T003408
CREATED:20180515T232058Z
LAST-MODIFIED:20180515T232058Z
UID:3401-1527012000-1527019200@www.taumarunuirsa.co.nz
SUMMARY:Membership Draw & Quiz Night
DESCRIPTION:Quiz Starts at 6pm.  Membership Draw approx 7pm
URL:https://www.taumarunuirsa.co.nz/event/membership-draw-quiz-night-57/
LOCATION:Taumarunui & District RSA\, 10 Marae Street\, Taumarunui\, New Zealand
END:VEVENT
BEGIN:VEVENT
DTSTART;TZID=Pacific/Auckland:20180518T180000
DTEND;TZID=Pacific/Auckland:20180518T200000
DTSTAMP:20260422T003408
CREATED:20180516T012038Z
LAST-MODIFIED:20180516T012038Z
UID:3472-1526666400-1526673600@www.taumarunuirsa.co.nz
SUMMARY:Membership Draw & 8 Ball
DESCRIPTION:$100-$1000 envelopes $25 Restaurant voucher draw if Membership Draw doesn’t go Friday Night Pool Singles every Friday night from 6.30pm 1st $50 Restaurant Voucher Runner Up $25 Restaurant Voucher
URL:https://www.taumarunuirsa.co.nz/event/membership-draw-8-ball-47/
LOCATION:Taumarunui & District RSA\, 10 Marae Street\, Taumarunui\, New Zealand
END:VEVENT
BEGIN:VEVENT
DTSTART;TZID=Pacific/Auckland:20180517T133000
DTEND;TZID=Pacific/Auckland:20180517T153000
DTSTAMP:20260422T003408
CREATED:20180515T234051Z
LAST-MODIFIED:20180515T234051Z
UID:3435-1526563800-1526571000@www.taumarunuirsa.co.nz
SUMMARY:Thursday Snooker
DESCRIPTION:
URL:https://www.taumarunuirsa.co.nz/event/thursday-snooker-58/
LOCATION:Taumarunui & District RSA\, 10 Marae Street\, Taumarunui\, New Zealand
END:VEVENT
BEGIN:VEVENT
DTSTART;TZID=Pacific/Auckland:20180515T180000
DTEND;TZID=Pacific/Auckland:20180515T200000
DTSTAMP:20260422T003408
CREATED:20180515T232020Z
LAST-MODIFIED:20180515T232020Z
UID:3399-1526407200-1526414400@www.taumarunuirsa.co.nz
SUMMARY:Membership Draw & Quiz Night
DESCRIPTION:Quiz Starts at 6pm.  Membership Draw approx 7pm
URL:https://www.taumarunuirsa.co.nz/event/membership-draw-quiz-night-56/
END:VEVENT
BEGIN:VEVENT
DTSTART;TZID=Pacific/Auckland:20180511T180000
DTEND;TZID=Pacific/Auckland:20180511T200000
DTSTAMP:20260422T003408
CREATED:20180516T011938Z
LAST-MODIFIED:20180516T011938Z
UID:3470-1526061600-1526068800@www.taumarunuirsa.co.nz
SUMMARY:Membership Draw & 8 Ball
DESCRIPTION:$100-$1000 envelopes $25 Restaurant voucher draw if Membership Draw doesn’t go Friday Night Pool Singles every Friday night from 6.30pm 1st $50 Restaurant Voucher Runner Up $25 Restaurant Voucher
URL:https://www.taumarunuirsa.co.nz/event/membership-draw-8-ball-46/
LOCATION:Taumarunui & District RSA\, 10 Marae Street\, Taumarunui\, New Zealand
END:VEVENT
BEGIN:VEVENT
DTSTART;TZID=Pacific/Auckland:20180510T133000
DTEND;TZID=Pacific/Auckland:20180510T153000
DTSTAMP:20260422T003408
CREATED:20180515T234007Z
LAST-MODIFIED:20180515T234007Z
UID:3433-1525959000-1525966200@www.taumarunuirsa.co.nz
SUMMARY:Thursday Snooker
DESCRIPTION:
URL:https://www.taumarunuirsa.co.nz/event/thursday-snooker-57/
LOCATION:Taumarunui & District RSA\, 10 Marae Street\, Taumarunui\, New Zealand
END:VEVENT
BEGIN:VEVENT
DTSTART;TZID=Pacific/Auckland:20180508T180000
DTEND;TZID=Pacific/Auckland:20180508T200000
DTSTAMP:20260422T003408
CREATED:20180515T231945Z
LAST-MODIFIED:20180515T231945Z
UID:3397-1525802400-1525809600@www.taumarunuirsa.co.nz
SUMMARY:Membership Draw & Quiz Night
DESCRIPTION:Quiz Starts at 6pm.  Membership Draw approx 7pm
URL:https://www.taumarunuirsa.co.nz/event/membership-draw-quiz-night-55/
LOCATION:Taumarunui & District RSA\, 10 Marae Street\, Taumarunui\, New Zealand
END:VEVENT
BEGIN:VEVENT
DTSTART;VALUE=DATE:20180505
DTEND;VALUE=DATE:20180506
DTSTAMP:20260422T003408
CREATED:20180219T060432Z
LAST-MODIFIED:20180219T060432Z
UID:3342-1525478400-1525564799@www.taumarunuirsa.co.nz
SUMMARY:Mountaineers 8 Ball
DESCRIPTION:10.45am Start
URL:https://www.taumarunuirsa.co.nz/event/mountaineers-8-ball-5/
LOCATION:Taumarunui Cossie
END:VEVENT
END:VCALENDAR