BEGIN:VCALENDAR
VERSION:2.0
PRODID:-//Taumarunui RSA - ECPv6.15.20//NONSGML v1.0//EN
CALSCALE:GREGORIAN
METHOD:PUBLISH
X-WR-CALNAME:Taumarunui RSA
X-ORIGINAL-URL:https://www.taumarunuirsa.co.nz
X-WR-CALDESC:Events for Taumarunui RSA
REFRESH-INTERVAL;VALUE=DURATION:PT1H
X-Robots-Tag:noindex
X-PUBLISHED-TTL:PT1H
BEGIN:VTIMEZONE
TZID:Pacific/Auckland
BEGIN:STANDARD
TZOFFSETFROM:+1300
TZOFFSETTO:+1200
TZNAME:NZST
DTSTART:20170401T140000
END:STANDARD
BEGIN:DAYLIGHT
TZOFFSETFROM:+1200
TZOFFSETTO:+1300
TZNAME:NZDT
DTSTART:20170923T140000
END:DAYLIGHT
BEGIN:STANDARD
TZOFFSETFROM:+1300
TZOFFSETTO:+1200
TZNAME:NZST
DTSTART:20180331T140000
END:STANDARD
BEGIN:DAYLIGHT
TZOFFSETFROM:+1200
TZOFFSETTO:+1300
TZNAME:NZDT
DTSTART:20180929T140000
END:DAYLIGHT
BEGIN:STANDARD
TZOFFSETFROM:+1300
TZOFFSETTO:+1200
TZNAME:NZST
DTSTART:20190406T140000
END:STANDARD
BEGIN:DAYLIGHT
TZOFFSETFROM:+1200
TZOFFSETTO:+1300
TZNAME:NZDT
DTSTART:20190928T140000
END:DAYLIGHT
END:VTIMEZONE
BEGIN:VEVENT
DTSTART;TZID=Pacific/Auckland:20181221T180000
DTEND;TZID=Pacific/Auckland:20181221T200000
DTSTAMP:20260423T023508
CREATED:20181101T235740Z
LAST-MODIFIED:20181101T235740Z
UID:3613-1545415200-1545422400@www.taumarunuirsa.co.nz
SUMMARY:$1000 Membership Draw
DESCRIPTION:Must go on the night.\nMembers must be at the Club & Financial to win
URL:https://www.taumarunuirsa.co.nz/event/1000-membership-draw-12/
LOCATION:Taumarunui & District RSA\, 10 Marae Street\, Taumarunui\, New Zealand
END:VEVENT
END:VCALENDAR